BEGIN:VCALENDAR
PRODID:-//github.com/ical-org/ical.net//NONSGML ical.net 4.0//EN
VERSION:2.0
BEGIN:VTIMEZONE
TZID:America/New_York
X-LIC-LOCATION:America/New_York
BEGIN:STANDARD
DTSTART:20241103T020000
RRULE:FREQ=YEARLY;BYDAY=1SU;BYMONTH=11
TZNAME:EST
TZOFFSETFROM:-0400
TZOFFSETTO:-0500
END:STANDARD
BEGIN:DAYLIGHT
DTSTART:20250309T020000
RRULE:FREQ=YEARLY;BYDAY=2SU;BYMONTH=3
TZNAME:EDT
TZOFFSETFROM:-0500
TZOFFSETTO:-0400
END:DAYLIGHT
END:VTIMEZONE
BEGIN:VEVENT
DESCRIPTION:\nAdmission:\nFree\n\nDetails URL:\nhttps://medicine.yale.edu/
 event/getting-involved-in-new-haven-through-community-practice-panel/\n
DTEND;TZID=America/New_York:20250909T125000
DTSTAMP:20260422T095811Z
DTSTART;TZID=America/New_York:20250909T120000
GEO:41.303666;-72.932218
LOCATION:Yale School of Public Health (LEPH)\, Winslow Auditorium\, 60 Col
 lege Street\, New Haven\, CT\, United States
SEQUENCE:0
STATUS:Confirmed
SUMMARY:YSPH-SBS 525 Seminar Series: "Getting Involved in New Haven throug
 h Community Practice" - Student Panel
UID:572db5a0-4c71-4c0a-bb41-cc80611d467d
END:VEVENT
END:VCALENDAR
