BEGIN:VCALENDAR
PRODID:-//github.com/ical-org/ical.net//NONSGML ical.net 4.0//EN
VERSION:2.0
BEGIN:VTIMEZONE
TZID:America/New_York
X-LIC-LOCATION:America/New_York
BEGIN:STANDARD
DTSTART:20241103T020000
RRULE:FREQ=YEARLY;BYDAY=1SU;BYMONTH=11
TZNAME:EST
TZOFFSETFROM:-0400
TZOFFSETTO:-0500
END:STANDARD
BEGIN:DAYLIGHT
DTSTART:20250309T020000
RRULE:FREQ=YEARLY;BYDAY=2SU;BYMONTH=3
TZNAME:EDT
TZOFFSETFROM:-0500
TZOFFSETTO:-0400
END:DAYLIGHT
END:VTIMEZONE
BEGIN:VEVENT
DESCRIPTION:AI agents are transforming how we do science. In this talk\, D
 r. James Zou will showcase how intelligent\, tool-using language models a
 re accelerating discovery and improving peer review. He’ll introduce Virt
 ual Lab\, where AI scientist agents collaborate to solve research problem
 s—like designing nanobody treatments for COVID-19 variants. He’ll also de
 mo CellVoyager\, which uncovers insights from complex genomics data\, and
  Review Feedback Agent\, used at ICLR 2025 to enhance over 20\,000 peer r
 eviews. The tutorial will highlight lessons from building and deploying t
 hese systems—and what they mean for the future of research.*Room Change t
 o Kline Tower Rm. 1327*\n\nSpeaker:\nJames Zou\, PhD\n\nAdmission:\nFree\
 n\nFood:\n\n\nDetails URL:\nhttps://medicine.yale.edu/event/ai-agents-for
 -biomedical-discoveries/\n
DTEND;TZID=America/New_York:20250909T130000
DTSTAMP:20260423T093955Z
DTSTART;TZID=America/New_York:20250909T110000
LOCATION:URL: https://yale.zoom.us/meeting/register/z-BYSVs8SfSpnGa7CkyLxQ
SEQUENCE:0
STATUS:Confirmed
SUMMARY:AI Agents for Biomedical Discoveries
UID:1f93b04d-d06b-4e48-ac86-cddd4e026972
END:VEVENT
END:VCALENDAR
