BEGIN:VCALENDAR
PRODID:-//github.com/ical-org/ical.net//NONSGML ical.net 4.0//EN
VERSION:2.0
BEGIN:VTIMEZONE
TZID:America/New_York
X-LIC-LOCATION:America/New_York
BEGIN:STANDARD
DTSTART:20241103T020000
RRULE:FREQ=YEARLY;BYDAY=1SU;BYMONTH=11
TZNAME:EST
TZOFFSETFROM:-0400
TZOFFSETTO:-0500
END:STANDARD
BEGIN:DAYLIGHT
DTSTART:20250309T020000
RRULE:FREQ=YEARLY;BYDAY=2SU;BYMONTH=3
TZNAME:EDT
TZOFFSETFROM:-0500
TZOFFSETTO:-0400
END:DAYLIGHT
END:VTIMEZONE
BEGIN:VEVENT
DESCRIPTION:The Yale Program in Addiction Medicine is pleased to welcome M
 egan O'Grady\, PhD\, as guest speaker for Addiction Medicine Grand Rounds
  on April 22\, 2025. Title: Evaluating Community Readiness to Implement S
 ubstance Misuse Prevention: Findings from an Academic-Government Partners
 hip in Connecticut Learning Objectives: Describe the community readiness 
 model and its application to substance misuse prevention Identify factors
  that drive community readiness for substance misuse prevention Discuss k
 ey areas that have potential to increase implementation of substance misu
 se prevention in community settings About Dr. O'Grady Dr. Megan O’Grady i
 s an Associate Professor of Public Health Sciences. She is an applied soc
 ial psychologist and health services researcher with a focus on implement
 ation science. Her research and evaluation program aims to improve the sy
 stem of care for and prevention of substance use disorders. Specifically\
 , she is interested in how to better integrate care for behavioral and ph
 ysical health\, how technology can improve implementation of services for
  substance use disorder\, and how to implement system-level quality impro
 vements in substance use prevention and treatment settings. Dr. O’Grady i
 s currently the principal investigator on an NIH-funded study examining t
 he implementation of a text messaging program for unhealthy alcohol use i
 n emergency departments. She is also principal investigator on a seed gra
 nt that will identify barriers and facilitators to implementation of long
 -acting injectable medications for opioid use disorder in Community-Based
  Behavioral Health Clinics. Dr. O’Grady is a co-investigator on 1 PCORI-f
 unded and 5 NIH-funded studies on substance use services development and 
 implementation. She is also lead evaluator on several SAMHSA- and State-f
 unded projects in partnership with New York State and the State of Connec
 ticut that study implementation of new services for substance use prevent
 ion and treatment. In addition\, she directs the Center for Prevention Ev
 aluation and Statistics (CPES) at UConn Health and is co-chair of Connect
 icut’s State Epidemiological Outcomes Workgroup. She received her PhD at 
 Colorado State University and was a post-doctoral fellow in UConn Health’
 s Alcohol Research Center. Addiction Medicine Rounds are CME accredited. 
 Each session will be assigned 1 AMA PRA Category 1 Credits TM.\n\nSpeaker
 :\nMegan O'Grady\, PhD\n\nAdmission:\nFree\n\nDetails URL:\nhttps://medic
 ine.yale.edu/event/addiction-medicine-grand-rounds-megan-o-grady/\n
DTEND;TZID=America/New_York:20250422T130000
DTSTAMP:20260401T234636Z
DTSTART;TZID=America/New_York:20250422T120000
LOCATION:This session will be held virtually via Zoom. Register via the li
 nk provided. \, URL: https://yalesurvey.ca1.qualtrics.com/jfe/form/SV_8cV
 Ux6eNV0SgPcy
SEQUENCE:0
STATUS:Confirmed
SUMMARY:Addiction Medicine Grand Rounds: Evaluating Community Readiness to
  Implement Substance Misuse Prevention
UID:d34c19d9-323c-421f-ac52-1cf523786a26
END:VEVENT
END:VCALENDAR
