BEGIN:VCALENDAR
PRODID:-//github.com/ical-org/ical.net//NONSGML ical.net 4.0//EN
VERSION:2.0
BEGIN:VTIMEZONE
TZID:America/New_York
X-LIC-LOCATION:America/New_York
BEGIN:STANDARD
DTSTART:20241103T020000
RRULE:FREQ=YEARLY;BYDAY=1SU;BYMONTH=11
TZNAME:EST
TZOFFSETFROM:-0400
TZOFFSETTO:-0500
END:STANDARD
BEGIN:DAYLIGHT
DTSTART:20250309T020000
RRULE:FREQ=YEARLY;BYDAY=2SU;BYMONTH=3
TZNAME:EDT
TZOFFSETFROM:-0500
TZOFFSETTO:-0400
END:DAYLIGHT
END:VTIMEZONE
BEGIN:VEVENT
DESCRIPTION:In US\, policymakers\, advocates\, and opponents use the publi
 c arena to communicate policy to various constituents including voters. I
 n doing so\, each frames their communications according to their audience
 . This often centers a conversation around a desired outcome. Despite our
  knowing that framing exists\, we know little about how frames operate in
  the policy process. We conducted a survey experiment to improve our unde
 rstanding of “if” and “how” presenting gun policy from a known trusted me
 ssenger\; a permissive gun advocacy group such as the NRA\; a government 
 agency like the CDC\; or as “common sense” impacts a person’s policy supp
 ort. We will also seek to understand whether or not the effect varies by 
 issue salience (e.g.\, in this case\, how important gun access or gun con
 trol is to the focal person). We find messaging can affect a person’s agr
 eement of firearm policy support\, but often in nuanced ways. REGISTRATIO
 N REQUIRED https://yalesurvey.ca1.qualtrics.com/jfe/form/SV_0oIwKpLBwdIHB
 6C\n\nSpeaker:\nKerri Raissian\, PhD\n\nAdmission:\nFree\n\nFood:\nSnacks
 : Light snacks provided.  \n\nDetails URL:\nhttps://medicine.yale.edu/eve
 nt/who-says-a-survey-experiment/\n
DTEND;TZID=America/New_York:20250514T140000
DTSTAMP:20260417T144232Z
DTSTART;TZID=America/New_York:20250514T130000
LOCATION:In US\, policymakers\, advocates\, and opponents use the public a
 rena to communicate policy to various constituents including voters. In d
 oing so\, each frames their communications according to their audience. T
 his often centers a conversation around a desired outcome. Despite our kn
 owing that framing exists\, we know little about how frames operate in th
 e policy process. In this talk\, we will discuss solutions.\, URL: https:
 //yalesurvey.ca1.qualtrics.com/jfe/form/SV_0oIwKpLBwdIHB6C
SEQUENCE:0
STATUS:Confirmed
SUMMARY:Who Says? A Survey Experiment to Understand Citizen Support for Gu
 n Policy and Practice in America
UID:cdae4ee1-7863-464d-bc56-75f9468d4f58
END:VEVENT
END:VCALENDAR
