BEGIN:VCALENDAR
PRODID:-//github.com/ical-org/ical.net//NONSGML ical.net 4.0//EN
VERSION:2.0
BEGIN:VTIMEZONE
TZID:America/New_York
X-LIC-LOCATION:America/New_York
BEGIN:STANDARD
DTSTART:20241103T020000
RRULE:FREQ=YEARLY;BYDAY=1SU;BYMONTH=11
TZNAME:EST
TZOFFSETFROM:-0400
TZOFFSETTO:-0500
END:STANDARD
BEGIN:DAYLIGHT
DTSTART:20250309T020000
RRULE:FREQ=YEARLY;BYDAY=2SU;BYMONTH=3
TZNAME:EDT
TZOFFSETFROM:-0500
TZOFFSETTO:-0400
END:DAYLIGHT
END:VTIMEZONE
BEGIN:VEVENT
DESCRIPTION:Statewide initiative to harness the power of AI to radically i
 mprove healthcare\, enhance lives\, and drive meaningful impact to all Co
 mmunities in Connecticut. 1st prize $100\,000\; 2nd prizes $50\,000\; 3rd
  prizes $25\,000. Important Dates Pre-submission - March 28\, 2025\, cont
 act person for Yale New Haven Health: Lee Schwamm\, MD – Lee Schwamm\, MD
  Submission - April 7\, 2025 Semi-Finalist Pitch - May 27\, 2025 Celebrat
 ion - May 29\, 2025 at the Yale Innovation Summit\n\nAdmission:\nFree\n\n
 Details URL:\nhttps://medicine.yale.edu/event/health-ai-championship-comp
 etition/\n
DTEND;TZID=America/New_York;VALUE=DATE:20250530
DTSTAMP:20260424T045301Z
DTSTART;TZID=America/New_York;VALUE=DATE:20250526
SEQUENCE:0
STATUS:Confirmed
SUMMARY:Health AI Championship Competition
UID:7c9612c3-da79-414b-8df5-cff5d5c7e84c
END:VEVENT
END:VCALENDAR
