BEGIN:VCALENDAR
PRODID:-//github.com/ical-org/ical.net//NONSGML ical.net 4.0//EN
VERSION:2.0
BEGIN:VTIMEZONE
TZID:America/New_York
X-LIC-LOCATION:America/New_York
BEGIN:STANDARD
DTSTART:20241103T020000
RRULE:FREQ=YEARLY;BYDAY=1SU;BYMONTH=11
TZNAME:EST
TZOFFSETFROM:-0400
TZOFFSETTO:-0500
END:STANDARD
BEGIN:DAYLIGHT
DTSTART:20250309T020000
RRULE:FREQ=YEARLY;BYDAY=2SU;BYMONTH=3
TZNAME:EDT
TZOFFSETFROM:-0500
TZOFFSETTO:-0400
END:DAYLIGHT
END:VTIMEZONE
BEGIN:VEVENT
DESCRIPTION:Please join the Yale School of Public Health in hosting the 20
 25 New England Statistical Symposium (NESS). This conference will be held
  in the Omni Hotel New Haven on June 2 and 3\, 2025. Conference Dates and
  Location: June 2-June 3\, 2025\, New Haven\, CT May 31 and June 1: short
  courses (online) June 2 and 3: main meeting and other activities Plenary
  Talks NESS 2025 will include plenary talks featuring speakers from Yale 
 University\, the University of Pennsylvania\, and the NFL. From YSPH\, Dr
 . Heping Zhang will be one of the speakers for the keynote presentation. 
 Learn more about the plenary talks here. Short Courses On May 31 and June
  1\, 2025\, there will be a series of six short courses online. A Short C
 ourse on Optimization for Data Science and Machine Learning Problems (Ful
 l day\; May 31\, 2025) Statistical Methods for Composite Time-to-Event Ou
 tcomes: Win Ratio and Beyond (Full day\; May 31\, 2025) Statistical tests
  for bioequivalence and biosimilarity (Half day - AM Session\; May 31\, 2
 025) Statistical Methods for Time-to-Event Data from Multiple Sources: A 
 Causal Inference Perspective (Full day\; June 1\, 2025) From Estimands to
  Robust Inference of Treatment Effects in Platform Trials (Half day - AM 
 Session\; June 1\, 2025) Statistics Meets Tensors: Methods\, Theory\, and
  Applications (Full day\; June 1\, 2025) Learn more about the short cours
 es here.\n\nAdmission:\nRegistrationFees\n\nFood:\nDinner\, Lunch\n\nDeta
 ils URL:\nhttps://medicine.yale.edu/event/new-england-statistical-symposi
 um-2025/\n
DTEND;TZID=America/New_York;VALUE=DATE:20250604
DTSTAMP:20260417T173526Z
DTSTART;TZID=America/New_York;VALUE=DATE:20250602
GEO:41.305600;-72.926884
LOCATION:155 Temple Street\, New Haven\, CT\, United States
SEQUENCE:0
STATUS:Confirmed
SUMMARY:New England Statistical Symposium 2025 (NESS)
UID:2d203a00-ea5e-488d-98b5-3e8019f7fde6
END:VEVENT
END:VCALENDAR
