BEGIN:VCALENDAR
PRODID:-//github.com/ical-org/ical.net//NONSGML ical.net 4.0//EN
VERSION:2.0
BEGIN:VTIMEZONE
TZID:America/New_York
X-LIC-LOCATION:America/New_York
BEGIN:STANDARD
DTSTART:20241103T020000
RRULE:FREQ=YEARLY;BYDAY=1SU;BYMONTH=11
TZNAME:EST
TZOFFSETFROM:-0400
TZOFFSETTO:-0500
END:STANDARD
BEGIN:DAYLIGHT
DTSTART:20250309T020000
RRULE:FREQ=YEARLY;BYDAY=2SU;BYMONTH=3
TZNAME:EDT
TZOFFSETFROM:-0500
TZOFFSETTO:-0400
END:DAYLIGHT
END:VTIMEZONE
BEGIN:VEVENT
DESCRIPTION:Speaker: Yusuf Ransome\, DrPH Title: Mediating pathways betwee
 n social connectedness and psychological distress in United States adults
  at midlife Date: May 15\, 2025\n\nSpeaker:\nYusuf Ransome\n\nAdmission:\
 nFree\n\nDetails URL:\nhttps://medicine.yale.edu/event/yale-interdiscipli
 nary-stress-seminar-series-spring-2025-5/\n
DTEND;TZID=America/New_York:20250515T113000
DTSTAMP:20260424T095544Z
DTSTART;TZID=America/New_York:20250515T103000
SEQUENCE:0
STATUS:Confirmed
SUMMARY:Interdisciplinary Stress Seminar Series: Spring 2025: Stress and S
 ocial Dynamics (PART II)
UID:3577ff16-37e3-4e5a-9208-8fcff948f431
END:VEVENT
END:VCALENDAR
