BEGIN:VCALENDAR
PRODID:-//github.com/ical-org/ical.net//NONSGML ical.net 4.0//EN
VERSION:2.0
BEGIN:VTIMEZONE
TZID:America/New_York
X-LIC-LOCATION:America/New_York
BEGIN:STANDARD
DTSTART:20241103T020000
RRULE:FREQ=YEARLY;BYDAY=1SU;BYMONTH=11
TZNAME:EST
TZOFFSETFROM:-0400
TZOFFSETTO:-0500
END:STANDARD
BEGIN:DAYLIGHT
DTSTART:20250309T020000
RRULE:FREQ=YEARLY;BYDAY=2SU;BYMONTH=3
TZNAME:EDT
TZOFFSETFROM:-0500
TZOFFSETTO:-0400
END:DAYLIGHT
END:VTIMEZONE
BEGIN:VEVENT
DESCRIPTION:Representatives from CEPH-accredited schools and programs will
  be available to answer all of your MPH program and application questions
 . Registration is free for all students! Program Agenda: 12:00 PM – This 
 Is Public Health (TIPH) Information SessionExhibitors will present brief 
 overviews of their institutions General Q&A 1:00 PM – 2:00 PM – Virtual e
 xhibitor booth via breakout roomsSpeak with a representative from the sch
 ool or program Learn more and ask institution-specific questions Exhibito
 rs: Boston University School of Public HealthGeorge Washington University
  Milken Institute School of Public HealthSt. Catherine University Public 
 Health ProgramStony Brook University Program in Public HealthThe Universi
 ty of Texas Health Science Center at Houston School of Public HealthUnive
 rsity of North Texas Health Science Center School of Public HealthYale Sc
 hool of Public Health\n\nAdmission:\nFree\n\nDetails URL:\nhttps://medici
 ne.yale.edu/event/ysphtiphfair2021/\n
DTEND;TZID=America/New_York:20211005T140000
DTSTAMP:20260425T220533Z
DTSTART;TZID=America/New_York:20211005T120000
SEQUENCE:0
STATUS:Confirmed
SUMMARY:YSPH at the This is Public Health mini Graduate School Fair
UID:ab422ce2-37c8-48e5-97d7-cb68f85dbc3b
END:VEVENT
END:VCALENDAR
