BEGIN:VCALENDAR
PRODID:-//github.com/ical-org/ical.net//NONSGML ical.net 4.0//EN
VERSION:2.0
BEGIN:VTIMEZONE
TZID:America/New_York
X-LIC-LOCATION:America/New_York
BEGIN:STANDARD
DTSTART:20241103T020000
RRULE:FREQ=YEARLY;BYDAY=1SU;BYMONTH=11
TZNAME:EST
TZOFFSETFROM:-0400
TZOFFSETTO:-0500
END:STANDARD
BEGIN:DAYLIGHT
DTSTART:20250309T020000
RRULE:FREQ=YEARLY;BYDAY=2SU;BYMONTH=3
TZNAME:EDT
TZOFFSETFROM:-0500
TZOFFSETTO:-0400
END:DAYLIGHT
END:VTIMEZONE
BEGIN:VEVENT
DESCRIPTION:Registration is not required. Drop in to online office hours t
 o ask the public health librarian your questions. Topics: citations\, lit
  reviews\, finding data\, critical appraisal\, publishing\, accessing boo
 ks and newspapers…. Any library question at all! Get the Zoom link: https
 ://library.medicine.yale.edu/ysph-librarian-office-hours\n\nSpeaker:\nKat
 e Nyhan\n\nAdmission:\nFree: Open\; Registration is not required.\n\nDeta
 ils URL:\nhttps://medicine.yale.edu/event/public-health-ask-a-librarian-h
 our-online-1/\n
DTEND;TZID=America/New_York:20260109T160000
DTSTAMP:20260420T132703Z
DTSTART;TZID=America/New_York:20260109T150000
LOCATION:URL: https://schedule.yale.edu/event/15685055
RECURRENCE-ID;TZID=America/New_York:20260109T150000
SEQUENCE:0
STATUS:Confirmed
SUMMARY:Public Health Ask-A-Librarian Hour (Online)
UID:30d755c8-16ad-4a16-b822-1062cee412e9
END:VEVENT
BEGIN:VEVENT
DESCRIPTION:Registration is not required. Drop in to online office hours t
 o ask the public health librarian your questions. Topics: citations\, lit
  reviews\, finding data\, critical appraisal\, publishing\, accessing boo
 ks and newspapers…. Any library question at all! Get the Zoom link: https
 ://library.medicine.yale.edu/ysph-librarian-office-hours\n\nSpeaker:\nKat
 e Nyhan\n\nAdmission:\nFree: Open\; Registration is not required.\n\nDeta
 ils URL:\nhttps://medicine.yale.edu/event/public-health-ask-a-librarian-h
 our-online-2/\n
DTEND;TZID=America/New_York:20260116T160000
DTSTAMP:20260420T132703Z
DTSTART;TZID=America/New_York:20260116T150000
LOCATION:URL: https://schedule.yale.edu/event/15685056
RECURRENCE-ID;TZID=America/New_York:20260116T150000
SEQUENCE:0
STATUS:Confirmed
SUMMARY:Public Health Ask-A-Librarian Hour (Online)
UID:30d755c8-16ad-4a16-b822-1062cee412e9
END:VEVENT
BEGIN:VEVENT
DESCRIPTION:Registration is not required. Drop in to online office hours t
 o ask the public health librarian your questions. Topics: citations\, lit
  reviews\, finding data\, critical appraisal\, publishing\, accessing boo
 ks and newspapers…. Any library question at all! Get the Zoom link: https
 ://library.medicine.yale.edu/ysph-librarian-office-hours\n\nSpeaker:\nKat
 e Nyhan\n\nAdmission:\nFree: Open\; Registration is not required.\n\nDeta
 ils URL:\nhttps://medicine.yale.edu/event/public-health-ask-a-librarian-h
 our-online-4/\n
DTEND;TZID=America/New_York:20260130T160000
DTSTAMP:20260420T132703Z
DTSTART;TZID=America/New_York:20260130T150000
LOCATION:URL: https://schedule.yale.edu/event/15685058
RECURRENCE-ID;TZID=America/New_York:20260130T150000
SEQUENCE:0
STATUS:Confirmed
SUMMARY:Public Health Ask-A-Librarian Hour (Online)
UID:30d755c8-16ad-4a16-b822-1062cee412e9
END:VEVENT
BEGIN:VEVENT
DESCRIPTION:Registration is not required. Drop in to online office hours t
 o ask the public health librarian your questions. Topics: citations\, lit
  reviews\, finding data\, critical appraisal\, publishing\, accessing boo
 ks and newspapers…. Any library question at all! Get the Zoom link: https
 ://library.medicine.yale.edu/ysph-librarian-office-hours\n\nSpeaker:\nKat
 e Nyhan\n\nAdmission:\nFree: Open\; Registration is not required.\n\nDeta
 ils URL:\nhttps://medicine.yale.edu/event/public-health-ask-a-librarian-h
 our-online-6/\n
DTEND;TZID=America/New_York:20260213T160000
DTSTAMP:20260420T132703Z
DTSTART;TZID=America/New_York:20260213T150000
LOCATION:URL: https://schedule.yale.edu/event/15685060
RECURRENCE-ID;TZID=America/New_York:20260213T150000
SEQUENCE:0
STATUS:Confirmed
SUMMARY:Public Health Ask-A-Librarian Hour (Online)
UID:30d755c8-16ad-4a16-b822-1062cee412e9
END:VEVENT
BEGIN:VEVENT
DESCRIPTION:Registration is not required. Drop in to online office hours t
 o ask the public health librarian your questions. Topics: citations\, lit
  reviews\, finding data\, critical appraisal\, publishing\, accessing boo
 ks and newspapers…. Any library question at all! Get the Zoom link: https
 ://library.medicine.yale.edu/ysph-librarian-office-hours\n\nSpeaker:\nKat
 e Nyhan\n\nAdmission:\nFree: Open\; Registration is not required.\n\nDeta
 ils URL:\nhttps://medicine.yale.edu/event/public-health-ask-a-librarian-h
 our-online-7/\n
DTEND;TZID=America/New_York:20260220T160000
DTSTAMP:20260420T132703Z
DTSTART;TZID=America/New_York:20260220T150000
LOCATION:URL: https://schedule.yale.edu/event/15685061
RECURRENCE-ID;TZID=America/New_York:20260220T150000
SEQUENCE:0
STATUS:Confirmed
SUMMARY:Public Health Ask-A-Librarian Hour (Online)
UID:30d755c8-16ad-4a16-b822-1062cee412e9
END:VEVENT
BEGIN:VEVENT
DESCRIPTION:Registration is not required. Drop in to online office hours t
 o ask the public health librarian your questions. Topics: citations\, lit
  reviews\, finding data\, critical appraisal\, publishing\, accessing boo
 ks and newspapers…. Any library question at all! Get the Zoom link: https
 ://library.medicine.yale.edu/ysph-librarian-office-hours\n\nSpeaker:\nKat
 e Nyhan\n\nAdmission:\nFree: Open\; Registration is not required.\n\nDeta
 ils URL:\nhttps://medicine.yale.edu/event/public-health-ask-a-librarian-h
 our-online-8/\n
DTEND;TZID=America/New_York:20260227T160000
DTSTAMP:20260420T132703Z
DTSTART;TZID=America/New_York:20260227T150000
LOCATION:URL: https://schedule.yale.edu/event/15685062
RECURRENCE-ID;TZID=America/New_York:20260227T150000
SEQUENCE:0
STATUS:Cancelled
SUMMARY:Public Health Ask-A-Librarian Hour (Online)
UID:30d755c8-16ad-4a16-b822-1062cee412e9
END:VEVENT
BEGIN:VEVENT
DESCRIPTION:Registration is not required. Drop in to online office hours t
 o ask the public health librarian your questions. Topics: citations\, lit
  reviews\, finding data\, critical appraisal\, publishing\, accessing boo
 ks and newspapers…. Any library question at all! Get the Zoom link: https
 ://library.medicine.yale.edu/ysph-librarian-office-hours\n\nSpeaker:\nKat
 e Nyhan\n\nAdmission:\nFree: Open\; Registration is not required.\n\nDeta
 ils URL:\nhttps://medicine.yale.edu/event/public-health-ask-a-librarian-h
 our-online-9/\n
DTEND;TZID=America/New_York:20260306T160000
DTSTAMP:20260420T132703Z
DTSTART;TZID=America/New_York:20260306T150000
LOCATION:URL: https://schedule.yale.edu/event/15685063
RECURRENCE-ID;TZID=America/New_York:20260306T150000
SEQUENCE:0
STATUS:Confirmed
SUMMARY:Public Health Ask-A-Librarian Hour (Online)
UID:30d755c8-16ad-4a16-b822-1062cee412e9
END:VEVENT
BEGIN:VEVENT
DESCRIPTION:Registration is not required. Drop in to online office hours t
 o ask the public health librarian your questions. Topics: citations\, lit
  reviews\, finding data\, critical appraisal\, publishing\, accessing boo
 ks and newspapers…. Any library question at all! Get the Zoom link: https
 ://library.medicine.yale.edu/ysph-librarian-office-hours\n\nSpeaker:\nKat
 e Nyhan\n\nAdmission:\nFree: Open\; Registration is not required.\n\nDeta
 ils URL:\nhttps://medicine.yale.edu/event/public-health-ask-a-librarian-h
 our-online-10/\n
DTEND;TZID=America/New_York:20260313T160000
DTSTAMP:20260420T132703Z
DTSTART;TZID=America/New_York:20260313T150000
LOCATION:URL: https://schedule.yale.edu/event/15685069
RECURRENCE-ID;TZID=America/New_York:20260313T150000
SEQUENCE:0
STATUS:Confirmed
SUMMARY:Public Health Ask-A-Librarian Hour (Online)
UID:30d755c8-16ad-4a16-b822-1062cee412e9
END:VEVENT
BEGIN:VEVENT
DESCRIPTION:Registration is not required. Drop in to online office hours t
 o ask the public health librarian your questions. Topics: citations\, lit
  reviews\, finding data\, critical appraisal\, publishing\, accessing boo
 ks and newspapers…. Any library question at all! Get the Zoom link: https
 ://library.medicine.yale.edu/ysph-librarian-office-hours\n\nSpeaker:\nKat
 e Nyhan\n\nAdmission:\nFree: Open\; Registration is not required.\n\nDeta
 ils URL:\nhttps://medicine.yale.edu/event/public-health-ask-a-librarian-h
 our-online-11/\n
DTEND;TZID=America/New_York:20260320T160000
DTSTAMP:20260420T132703Z
DTSTART;TZID=America/New_York:20260320T150000
LOCATION:URL: https://schedule.yale.edu/event/15685079
RECURRENCE-ID;TZID=America/New_York:20260320T150000
SEQUENCE:0
STATUS:Confirmed
SUMMARY:Public Health Ask-A-Librarian Hour (Online)
UID:30d755c8-16ad-4a16-b822-1062cee412e9
END:VEVENT
BEGIN:VEVENT
DESCRIPTION:Registration is not required. Drop in to online office hours t
 o ask the public health librarian your questions. Topics: citations\, lit
  reviews\, finding data\, critical appraisal\, publishing\, accessing boo
 ks and newspapers…. Any library question at all! Get the Zoom link: https
 ://library.medicine.yale.edu/ysph-librarian-office-hours\n\nSpeaker:\nKat
 e Nyhan\n\nAdmission:\nFree: Open\; Registration is not required.\n\nDeta
 ils URL:\nhttps://medicine.yale.edu/event/public-health-ask-a-librarian-h
 our-online-12/\n
DTEND;TZID=America/New_York:20260327T160000
DTSTAMP:20260420T132703Z
DTSTART;TZID=America/New_York:20260327T150000
LOCATION:URL: https://schedule.yale.edu/event/15685080
RECURRENCE-ID;TZID=America/New_York:20260327T150000
SEQUENCE:0
STATUS:Confirmed
SUMMARY:Public Health Ask-A-Librarian Hour (Online)
UID:30d755c8-16ad-4a16-b822-1062cee412e9
END:VEVENT
BEGIN:VEVENT
DESCRIPTION:Registration is not required. Drop in to online office hours t
 o ask the public health librarian your questions. Topics: citations\, lit
  reviews\, finding data\, critical appraisal\, publishing\, accessing boo
 ks and newspapers…. Any library question at all! Get the Zoom link: https
 ://library.medicine.yale.edu/ysph-librarian-office-hours\n\nSpeaker:\nKat
 e Nyhan\n\nAdmission:\nFree: Open\; Registration is not required.\n\nDeta
 ils URL:\nhttps://medicine.yale.edu/event/public-health-ask-a-librarian-h
 our-online-14/\n
DTEND;TZID=America/New_York:20260410T160000
DTSTAMP:20260420T132703Z
DTSTART;TZID=America/New_York:20260410T150000
LOCATION:URL: https://schedule.yale.edu/event/15685082
RECURRENCE-ID;TZID=America/New_York:20260410T150000
SEQUENCE:0
STATUS:Confirmed
SUMMARY:Public Health Ask-A-Librarian Hour (Online)
UID:30d755c8-16ad-4a16-b822-1062cee412e9
END:VEVENT
BEGIN:VEVENT
DESCRIPTION:Registration is not required. Drop in to online office hours t
 o ask the public health librarian your questions. Topics: citations\, lit
  reviews\, finding data\, critical appraisal\, publishing\, accessing boo
 ks and newspapers…. Any library question at all! Get the Zoom link: https
 ://library.medicine.yale.edu/ysph-librarian-office-hours\n\nSpeaker:\nKat
 e Nyhan\n\nAdmission:\nFree: Open\; Registration is not required.\n\nDeta
 ils URL:\nhttps://medicine.yale.edu/event/public-health-ask-a-librarian-h
 our-online-15/\n
DTEND;TZID=America/New_York:20260417T160000
DTSTAMP:20260420T132703Z
DTSTART;TZID=America/New_York:20260417T150000
LOCATION:URL: https://schedule.yale.edu/event/15685084
RECURRENCE-ID;TZID=America/New_York:20260417T150000
SEQUENCE:0
STATUS:Confirmed
SUMMARY:Public Health Ask-A-Librarian Hour (Online)
UID:30d755c8-16ad-4a16-b822-1062cee412e9
END:VEVENT
BEGIN:VEVENT
DESCRIPTION:Registration is not required. Drop in to online office hours t
 o ask the public health librarian your questions. Topics: citations\, lit
  reviews\, finding data\, critical appraisal\, publishing\, accessing boo
 ks and newspapers…. Any library question at all! Get the Zoom link: https
 ://library.medicine.yale.edu/ysph-librarian-office-hours\n\nSpeaker:\nKat
 e Nyhan\n\nAdmission:\nFree: Open\; Registration is not required.\n\nDeta
 ils URL:\nhttps://medicine.yale.edu/event/public-health-ask-a-librarian-h
 our-online-16/\n
DTEND;TZID=America/New_York:20260424T160000
DTSTAMP:20260420T132703Z
DTSTART;TZID=America/New_York:20260424T150000
LOCATION:URL: https://schedule.yale.edu/event/15685085
RECURRENCE-ID;TZID=America/New_York:20260424T150000
SEQUENCE:0
STATUS:Confirmed
SUMMARY:Public Health Ask-A-Librarian Hour (Online)
UID:30d755c8-16ad-4a16-b822-1062cee412e9
END:VEVENT
BEGIN:VEVENT
DESCRIPTION:Registration is not required. Drop in to online office hours t
 o ask the public health librarian your questions. Topics: citations\, lit
  reviews\, finding data\, critical appraisal\, publishing\, accessing boo
 ks and newspapers…. Any library question at all! Get the Zoom link: https
 ://library.medicine.yale.edu/ysph-librarian-office-hours\n\nSpeaker:\nKat
 e Nyhan\n\nAdmission:\nFree: Open\; Registration is not required.\n\nDeta
 ils URL:\nhttps://medicine.yale.edu/event/public-health-ask-a-librarian-h
 our-online-17/\n
DTEND;TZID=America/New_York:20260501T160000
DTSTAMP:20260420T132703Z
DTSTART;TZID=America/New_York:20260501T150000
LOCATION:URL: https://schedule.yale.edu/event/15685086
RECURRENCE-ID;TZID=America/New_York:20260501T150000
SEQUENCE:0
STATUS:Confirmed
SUMMARY:Public Health Ask-A-Librarian Hour (Online)
UID:30d755c8-16ad-4a16-b822-1062cee412e9
END:VEVENT
BEGIN:VEVENT
DESCRIPTION:Registration is not required. Drop in to online office hours t
 o ask the public health librarian your questions. Topics: citations\, lit
  reviews\, finding data\, critical appraisal\, publishing\, accessing boo
 ks and newspapers…. Any library question at all! Get the Zoom link: https
 ://library.medicine.yale.edu/ysph-librarian-office-hours\n\nSpeaker:\nKat
 e Nyhan\n\nAdmission:\nFree: Open\; Registration is not required.\n\nDeta
 ils URL:\nhttps://medicine.yale.edu/event/public-health-ask-a-librarian-h
 our-online-18/\n
DTEND;TZID=America/New_York:20260508T160000
DTSTAMP:20260420T132703Z
DTSTART;TZID=America/New_York:20260508T150000
LOCATION:URL: https://schedule.yale.edu/event/15685087
RECURRENCE-ID;TZID=America/New_York:20260508T150000
SEQUENCE:0
STATUS:Confirmed
SUMMARY:Public Health Ask-A-Librarian Hour (Online)
UID:30d755c8-16ad-4a16-b822-1062cee412e9
END:VEVENT
BEGIN:VEVENT
DESCRIPTION:Registration is not required. Drop in to online office hours t
 o ask the public health librarian your questions. Topics: citations\, lit
  reviews\, finding data\, critical appraisal\, publishing\, accessing boo
 ks and newspapers…. Any library question at all! Get the Zoom link: https
 ://library.medicine.yale.edu/ysph-librarian-office-hours\n\nSpeaker:\nKat
 e Nyhan\n\nAdmission:\nFree: Open\; Registration is not required.\n\nDeta
 ils URL:\nhttps://medicine.yale.edu/event/public-health-ask-a-librarian-h
 our-online-19/\n
DTEND;TZID=America/New_York:20260515T160000
DTSTAMP:20260420T132703Z
DTSTART;TZID=America/New_York:20260515T150000
LOCATION:URL: https://schedule.yale.edu/event/15685088
RECURRENCE-ID;TZID=America/New_York:20260515T150000
SEQUENCE:0
STATUS:Confirmed
SUMMARY:Public Health Ask-A-Librarian Hour (Online)
UID:30d755c8-16ad-4a16-b822-1062cee412e9
END:VEVENT
BEGIN:VEVENT
DESCRIPTION:Registration is not required. Drop in to online office hours t
 o ask the public health librarian your questions. Topics: citations\, lit
  reviews\, finding data\, critical appraisal\, publishing\, accessing boo
 ks and newspapers…. Any library question at all! Get the Zoom link: https
 ://library.medicine.yale.edu/ysph-librarian-office-hours\n\nSpeaker:\nKat
 e Nyhan\n\nAdmission:\nFree: Open\; Registration is not required.\n\nDeta
 ils URL:\nhttps://medicine.yale.edu/event/public-health-ask-a-librarian-h
 our-online-20/\n
DTEND;TZID=America/New_York:20260522T160000
DTSTAMP:20260420T132703Z
DTSTART;TZID=America/New_York:20260522T150000
LOCATION:URL: https://schedule.yale.edu/event/15685090
RECURRENCE-ID;TZID=America/New_York:20260522T150000
SEQUENCE:0
STATUS:Confirmed
SUMMARY:Public Health Ask-A-Librarian Hour (Online)
UID:30d755c8-16ad-4a16-b822-1062cee412e9
END:VEVENT
BEGIN:VEVENT
DESCRIPTION:Registration is not required. Drop in to online office hours t
 o ask the public health librarian your questions. Topics: citations\, lit
  reviews\, finding data\, critical appraisal\, publishing\, accessing boo
 ks and newspapers…. Any library question at all! Get the Zoom link: https
 ://library.medicine.yale.edu/ysph-librarian-office-hours\n\nSpeaker:\nKat
 e Nyhan\n\nAdmission:\nFree: Open\; Registration is not required.\n\nDeta
 ils URL:\nhttps://medicine.yale.edu/event/public-health-ask-a-librarian-h
 our-online-21/\n
DTEND;TZID=America/New_York:20260529T160000
DTSTAMP:20260420T132703Z
DTSTART;TZID=America/New_York:20260529T150000
LOCATION:URL: https://schedule.yale.edu/event/15685091
RECURRENCE-ID;TZID=America/New_York:20260529T150000
SEQUENCE:0
STATUS:Confirmed
SUMMARY:Public Health Ask-A-Librarian Hour (Online)
UID:30d755c8-16ad-4a16-b822-1062cee412e9
END:VEVENT
BEGIN:VEVENT
DESCRIPTION:Registration is not required. Drop in to online office hours t
 o ask the public health librarian your questions. Topics: citations\, lit
  reviews\, finding data\, critical appraisal\, publishing\, accessing boo
 ks and newspapers…. Any library question at all! Get the Zoom link: https
 ://library.medicine.yale.edu/ysph-librarian-office-hours\n\nSpeaker:\nKat
 e Nyhan\n\nAdmission:\nFree: Open\; Registration is not required.\n
DTEND;TZID=America/New_York:20260109T160000
DTSTAMP:20260420T132703Z
DTSTART;TZID=America/New_York:20260109T150000
EXDATE:20260123T150000
EXDATE:20260206T150000
EXDATE:20260403T150000
LOCATION:URL: https://schedule.yale.edu/event/15685056
RRULE:FREQ=WEEKLY;UNTIL=20260530T035959Z;BYDAY=FR
SEQUENCE:0
STATUS:Confirmed
SUMMARY:Public Health Ask-A-Librarian Hour (Online)
UID:30d755c8-16ad-4a16-b822-1062cee412e9
END:VEVENT
END:VCALENDAR
