BEGIN:VCALENDAR
PRODID:-//github.com/ical-org/ical.net//NONSGML ical.net 4.0//EN
VERSION:2.0
BEGIN:VTIMEZONE
TZID:America/New_York
X-LIC-LOCATION:America/New_York
BEGIN:STANDARD
DTSTART:20241103T020000
RRULE:FREQ=YEARLY;BYDAY=1SU;BYMONTH=11
TZNAME:EST
TZOFFSETFROM:-0400
TZOFFSETTO:-0500
END:STANDARD
BEGIN:DAYLIGHT
DTSTART:20250309T020000
RRULE:FREQ=YEARLY;BYDAY=2SU;BYMONTH=3
TZNAME:EDT
TZOFFSETFROM:-0500
TZOFFSETTO:-0400
END:DAYLIGHT
END:VTIMEZONE
BEGIN:VEVENT
DESCRIPTION:Faculty in the Department of Social and Behavioral Sciences wi
 ll join the Office of Admissions to speak with prospective students about
  the department. Led by Professor Becca Levy and Department Chair\, Trace
  Kershaw\, this event will provide the opportunity for prospective studen
 ts to learn more about the MPH SBS curriculum\, areas of faculty focus an
 d more! Please register at: https://yale.zoom.us/meeting/register/tJIpdeq
 tqzkuE93RKT2nTdgi6KwmNLa1fiY2 .\n\nAdmission:\nFree\n\nDetails URL:\nhttp
 s://medicine.yale.edu/event/social-and-behavioral-sciences-faculty-chat/\
 n
DTEND;TZID=America/New_York:20221207T183000
DTSTAMP:20260324T013841Z
DTSTART;TZID=America/New_York:20221207T173000
LOCATION:URL: https://yale.zoom.us/meeting/register/tJIpdeqtqzkuE93RKT2nTd
 gi6KwmNLa1fiY2
SEQUENCE:0
STATUS:Confirmed
SUMMARY:Social and Behavioral Sciences Faculty Chat
UID:2b1f9d6e-b33e-4c3d-9d75-da13f263fbec
END:VEVENT
END:VCALENDAR
