BEGIN:VCALENDAR
PRODID:-//github.com/ical-org/ical.net//NONSGML ical.net 4.0//EN
VERSION:2.0
BEGIN:VTIMEZONE
TZID:America/New_York
X-LIC-LOCATION:America/New_York
BEGIN:STANDARD
DTSTART:20241103T020000
RRULE:FREQ=YEARLY;BYDAY=1SU;BYMONTH=11
TZNAME:EST
TZOFFSETFROM:-0400
TZOFFSETTO:-0500
END:STANDARD
BEGIN:DAYLIGHT
DTSTART:20250309T020000
RRULE:FREQ=YEARLY;BYDAY=2SU;BYMONTH=3
TZNAME:EDT
TZOFFSETFROM:-0500
TZOFFSETTO:-0400
END:DAYLIGHT
END:VTIMEZONE
BEGIN:VEVENT
DESCRIPTION:Join Jen Farkas\, Director of Financial Aid\, for an overview 
 of the YSPH financial aid process. Jen will cover school sponsored schola
 rships\, on campus student employment\, applying for loans and searching 
 for external funding. Please register at: https://yale.zoom.us/meeting/re
 gister/tJUvcemuqj4jGtSpTDraQ5bvrVofwvveXKZz .\n\nAdmission:\nFree\n\nDeta
 ils URL:\nhttps://medicine.yale.edu/event/mph-financial-aid-information-s
 ession-dec/\n
DTEND;TZID=America/New_York:20221207T130000
DTSTAMP:20260412T015242Z
DTSTART;TZID=America/New_York:20221207T120000
LOCATION:URL: https://yale.zoom.us/meeting/register/tJUvcemuqj4jGtSpTDraQ5
 bvrVofwvveXKZz
SEQUENCE:0
STATUS:Confirmed
SUMMARY:MPH Financial Aid Information Session
UID:6c67bd4d-3d50-4713-9427-de6f41538a0d
END:VEVENT
END:VCALENDAR
