BEGIN:VCALENDAR
PRODID:-//github.com/ical-org/ical.net//NONSGML ical.net 4.0//EN
VERSION:2.0
BEGIN:VTIMEZONE
TZID:America/New_York
X-LIC-LOCATION:America/New_York
BEGIN:STANDARD
DTSTART:20241103T020000
RRULE:FREQ=YEARLY;BYDAY=1SU;BYMONTH=11
TZNAME:EST
TZOFFSETFROM:-0400
TZOFFSETTO:-0500
END:STANDARD
BEGIN:DAYLIGHT
DTSTART:20250309T020000
RRULE:FREQ=YEARLY;BYDAY=2SU;BYMONTH=3
TZNAME:EDT
TZOFFSETFROM:-0500
TZOFFSETTO:-0400
END:DAYLIGHT
END:VTIMEZONE
BEGIN:VEVENT
DESCRIPTION:This is a hybrid info session on the APE and summer internship
  for first year SBS students. If you are planning on attending the event 
 in person\, please use the RSVP link to let us know of any food requireme
 nts you may have.\n\nSpeaker:\nChandra Kelsey\n\nAdmission:\nFree\n\nFood
 :\nLunch\n\nDetails URL:\nhttps://medicine.yale.edu/event/ysph-sbs-ape-in
 fo-session/\n
DTEND;TZID=America/New_York:20221213T130000
DTSTAMP:20260420T110755Z
DTSTART;TZID=America/New_York:20221213T120000
SEQUENCE:0
STATUS:Confirmed
SUMMARY:YSPH SBS APE Info Session
UID:edfdd257-e2f4-4dbf-9201-d0579aaf6c69
END:VEVENT
END:VCALENDAR
