BEGIN:VCALENDAR
PRODID:-//github.com/ical-org/ical.net//NONSGML ical.net 4.0//EN
VERSION:2.0
BEGIN:VTIMEZONE
TZID:America/New_York
X-LIC-LOCATION:America/New_York
BEGIN:STANDARD
DTSTART:20241103T020000
RRULE:FREQ=YEARLY;BYDAY=1SU;BYMONTH=11
TZNAME:EST
TZOFFSETFROM:-0400
TZOFFSETTO:-0500
END:STANDARD
BEGIN:DAYLIGHT
DTSTART:20250309T020000
RRULE:FREQ=YEARLY;BYDAY=2SU;BYMONTH=3
TZNAME:EDT
TZOFFSETFROM:-0500
TZOFFSETTO:-0400
END:DAYLIGHT
END:VTIMEZONE
BEGIN:VEVENT
DESCRIPTION:Event to recognize and celebrate faculty/staff long service at
  the university.\n\nAdmission:\nFree: Faculty and Staff\n\nFood:\nbreakfa
 st refreshments\n\nDetails URL:\nhttps://medicine.yale.edu/event/ysph-lon
 g-service-breakfast/\n
DTEND;TZID=America/New_York:20221019T103000
DTSTAMP:20260420T052133Z
DTSTART;TZID=America/New_York:20221019T090000
GEO:41.302961;-72.931638
LOCATION:Student Lounge\, 47 College Street\, New Haven\, CT\, United Stat
 es
SEQUENCE:0
STATUS:Confirmed
SUMMARY:YSPH Long Service Breakfast
UID:0936305b-38d5-4f1c-8e80-aab25c3c3f67
END:VEVENT
END:VCALENDAR
