BEGIN:VCALENDAR
PRODID:-//github.com/ical-org/ical.net//NONSGML ical.net 4.0//EN
VERSION:2.0
BEGIN:VTIMEZONE
TZID:America/New_York
X-LIC-LOCATION:America/New_York
BEGIN:STANDARD
DTSTART:20241103T020000
RRULE:FREQ=YEARLY;BYDAY=1SU;BYMONTH=11
TZNAME:EST
TZOFFSETFROM:-0400
TZOFFSETTO:-0500
END:STANDARD
BEGIN:DAYLIGHT
DTSTART:20250309T020000
RRULE:FREQ=YEARLY;BYDAY=2SU;BYMONTH=3
TZNAME:EDT
TZOFFSETFROM:-0500
TZOFFSETTO:-0400
END:DAYLIGHT
END:VTIMEZONE
BEGIN:VEVENT
DESCRIPTION:Despite major advances in preventing child mortality over the 
 past several decades\, a substantial burden remains. In 2020\, one in 27 
 children died before reaching age five\, with the first days of life repr
 esenting a time of unique vulnerability. My research group investigates m
 ajor infectious causes of neonatal morbidity and mortality\, with a parti
 cular focus on Group B Streptococcus (GBS)\, a leading cause of bacterial
  sepsis in newborns worldwide. Using a combination of field studies\, gen
 omic epidemiology\, and laboratory-based models of infection\, we strive 
 to understand the contribution of specific bacterial factors\, including 
 the capsular polysaccharide that is the target of current vaccine candida
 tes\, to GBS epidemiology and pathogenesis. The overall goal of our work 
 is to help optimize the design and implementation of preventive strategie
 s for this important neonatal pathogen.\n\nSpeaker:\nAdam Ratner\, MD\n\n
 Admission:\nFree\n\nDetails URL:\nhttps://medicine.yale.edu/event/ysph-em
 d-seminarseries/\n
DTEND;TZID=America/New_York:20220202T130000
DTSTAMP:20260420T184755Z
DTSTART;TZID=America/New_York:20220202T120000
SEQUENCE:0
STATUS:Confirmed
SUMMARY:YSPH EMD Seminar Series: "Genome-wide approaches to Group B Strept
 ococcus epidemiology and pathogenesis"
UID:3e71f25d-0dbf-403f-9900-a8eacca8a041
END:VEVENT
END:VCALENDAR
