BEGIN:VCALENDAR
PRODID:-//github.com/ical-org/ical.net//NONSGML ical.net 4.0//EN
VERSION:2.0
BEGIN:VTIMEZONE
TZID:America/New_York
X-LIC-LOCATION:America/New_York
BEGIN:STANDARD
DTSTART:20241103T020000
RRULE:FREQ=YEARLY;BYDAY=1SU;BYMONTH=11
TZNAME:EST
TZOFFSETFROM:-0400
TZOFFSETTO:-0500
END:STANDARD
BEGIN:DAYLIGHT
DTSTART:20250309T020000
RRULE:FREQ=YEARLY;BYDAY=2SU;BYMONTH=3
TZNAME:EDT
TZOFFSETFROM:-0500
TZOFFSETTO:-0400
END:DAYLIGHT
END:VTIMEZONE
BEGIN:VEVENT
DESCRIPTION:Have questions about the APE or want to learn more? Join the O
 ffice of Community and Practice for a drop-in office hour at 135 College 
 St in Suite 200 to get some answers.\n\nAdmission:\nFree\n\nDetails URL:\
 nhttps://medicine.yale.edu/event/ape-april-drop-in-office-hour2/\n
DTEND;TZID=America/New_York:20260415T123000
DTSTAMP:20260415T191220Z
DTSTART;TZID=America/New_York:20260415T113000
GEO:41.304550;-72.930313
LOCATION:135 College Street\, New Haven\, CT\, United States
SEQUENCE:0
STATUS:Confirmed
SUMMARY:APE April Drop-In Office Hour
UID:b8fad531-1a14-4ab3-a57f-1b8c93fb4964
END:VEVENT
END:VCALENDAR
