BEGIN:VCALENDAR
PRODID:-//github.com/ical-org/ical.net//NONSGML ical.net 4.0//EN
VERSION:2.0
BEGIN:VTIMEZONE
TZID:America/New_York
X-LIC-LOCATION:America/New_York
BEGIN:STANDARD
DTSTART:20241103T020000
RRULE:FREQ=YEARLY;BYDAY=1SU;BYMONTH=11
TZNAME:EST
TZOFFSETFROM:-0400
TZOFFSETTO:-0500
END:STANDARD
BEGIN:DAYLIGHT
DTSTART:20250309T020000
RRULE:FREQ=YEARLY;BYDAY=2SU;BYMONTH=3
TZNAME:EDT
TZOFFSETFROM:-0500
TZOFFSETTO:-0400
END:DAYLIGHT
END:VTIMEZONE
BEGIN:VEVENT
DESCRIPTION:The YSPH community is invited to attend an interview with Mani
 sha Juthani\, Commissioner of the Connecticut Department of Public Health
 . Dr. Juthani is the first Indian American to serve as a commissioner in 
 the State of Connecticut and is an adjunct professor at YSPH and Yale Sch
 ool of Medicine. She established the Office of Firearm Injury Prevention 
 at DPH and leads the state Commission on Community Gun Violence Intervent
 ion and Prevention. Dr. Juthani is visiting YSPH as part of CDE567 Injury
  and Violence as Public Health Issues. She will share her experience as a
 n appointed government official working to reduce injury and violence and
  to improve public health. Students at YSPH will lead this one-hour inter
 view.\n\nAdmission:\nFree\n\nDetails URL:\nhttps://medicine.yale.edu/even
 t/an-interview-with-manisha-juthani-commissioner-of-the-connecticut-depar
 tment-of-public-health-dph/\n
DTEND;TZID=America/New_York:20260416T180000
DTSTAMP:20260416T200838Z
DTSTART;TZID=America/New_York:20260416T170000
GEO:41.303666;-72.932218
LOCATION:Yale School of Public Health (LEPH)\, Winslow Auditorium\, 60 Col
 lege Street\, New Haven\, CT\, United States
SEQUENCE:0
STATUS:Confirmed
SUMMARY:An Interview with Manisha Juthani\, Commissioner of the Connecticu
 t Department of Public Health
UID:8c7ab7a8-0729-428a-8080-8b8e7b05c692
END:VEVENT
END:VCALENDAR
