BEGIN:VCALENDAR
PRODID:-//github.com/ical-org/ical.net//NONSGML ical.net 4.0//EN
VERSION:2.0
BEGIN:VTIMEZONE
TZID:America/New_York
X-LIC-LOCATION:America/New_York
BEGIN:STANDARD
DTSTART:20241103T020000
RRULE:FREQ=YEARLY;BYDAY=1SU;BYMONTH=11
TZNAME:EST
TZOFFSETFROM:-0400
TZOFFSETTO:-0500
END:STANDARD
BEGIN:DAYLIGHT
DTSTART:20250309T020000
RRULE:FREQ=YEARLY;BYDAY=2SU;BYMONTH=3
TZNAME:EDT
TZOFFSETFROM:-0500
TZOFFSETTO:-0400
END:DAYLIGHT
END:VTIMEZONE
BEGIN:VEVENT
DESCRIPTION:Moderated by Tracy Rabin and Ingrid Katz\n\nSpeakers:\nMorgan 
 Goheen\; Norrisa Haynes\; Jeffrey Wickersham\; Daniel Ebbs\n\nAdmission:\
 nFree\n\nDetails URL:\nhttps://medicine.yale.edu/event/2026-global-health
 -day-noon-panel-discussion/\n
DTEND;TZID=America/New_York:20260326T131500
DTSTAMP:20260410T051341Z
DTSTART;TZID=America/New_York:20260326T120000
LOCATION:URL: https://yale.zoom.us/s/91787022295
SEQUENCE:0
STATUS:Confirmed
SUMMARY:Innovations in Global Health Collaborations: A Panel Discussion
UID:254594fd-9752-454e-ad11-3800ca553677
END:VEVENT
END:VCALENDAR
