BEGIN:VCALENDAR
PRODID:-//github.com/ical-org/ical.net//NONSGML ical.net 4.0//EN
VERSION:2.0
BEGIN:VTIMEZONE
TZID:America/New_York
X-LIC-LOCATION:America/New_York
BEGIN:STANDARD
DTSTART:20241103T020000
RRULE:FREQ=YEARLY;BYDAY=1SU;BYMONTH=11
TZNAME:EST
TZOFFSETFROM:-0400
TZOFFSETTO:-0500
END:STANDARD
BEGIN:DAYLIGHT
DTSTART:20250309T020000
RRULE:FREQ=YEARLY;BYDAY=2SU;BYMONTH=3
TZNAME:EDT
TZOFFSETFROM:-0500
TZOFFSETTO:-0400
END:DAYLIGHT
END:VTIMEZONE
BEGIN:VEVENT
DESCRIPTION:Have questions about the APE or want to learn more? Join the O
 ffice of Community and Practice for a drop-in office hour at 60 College S
 t in room 215b to get some answers.\n\nAdmission:\nFree\n\nDetails URL:\n
 https://medicine.yale.edu/event/ape-march-drop-in-office-hour/\n
DTEND;TZID=America/New_York:20260327T130000
DTSTAMP:20260417T211525Z
DTSTART;TZID=America/New_York:20260327T120000
SEQUENCE:0
STATUS:Confirmed
SUMMARY:APE March Drop-In Office Hour
UID:0dc4b1f2-a99c-40cf-ac40-b34db24f65d5
END:VEVENT
END:VCALENDAR
