BEGIN:VCALENDAR
PRODID:-//github.com/ical-org/ical.net//NONSGML ical.net 4.0//EN
VERSION:2.0
BEGIN:VTIMEZONE
TZID:America/New_York
X-LIC-LOCATION:America/New_York
BEGIN:STANDARD
DTSTART:20241103T020000
RRULE:FREQ=YEARLY;BYDAY=1SU;BYMONTH=11
TZNAME:EST
TZOFFSETFROM:-0400
TZOFFSETTO:-0500
END:STANDARD
BEGIN:DAYLIGHT
DTSTART:20250309T020000
RRULE:FREQ=YEARLY;BYDAY=2SU;BYMONTH=3
TZNAME:EDT
TZOFFSETFROM:-0500
TZOFFSETTO:-0400
END:DAYLIGHT
END:VTIMEZONE
BEGIN:VEVENT
DESCRIPTION:Registration is required. Are you ready to take the first step
 s in using code to work with data? In this training\, you’ll learn how to
  use Python\, one of the most popular programming languages\, to analyze 
 and visualize data. This training welcomes first-time coders and Python b
 eginners\, so we’ll begin with Python programming fundamentals before mov
 ing on to the basics of data analysis and visualization later in the trai
 ning. In this 2-hour in-person session\, you'll learn how to: Describe an
 d use basic Python concepts (e.g.\, strings\, integers\, printing\, varia
 bles\, lists\, dictionaries\, loops\, conditional logic\, etc.) Handle mi
 stakes in coding Use add-on modules (I.e.\, import libraries) for Python\
 , including numpy and matplotlib. Read data into Python Perform basic sta
 tistical operations on data Create basic plots from data What to know abo
 ut this session: This training will be hands-on\; come ready to code alon
 gside the instructor. You will only need a google/gmail account as we wil
 l use the https://colab.research.google.com/ environment.\n\nSpeaker:\nJu
 stin DeMayo\n\nAdmission:\nFree: Open\; Registration is required.\n\nDeta
 ils URL:\nhttps://medicine.yale.edu/event/getting-started-with-data-analy
 sis-visualization/\n
DTEND;TZID=America/New_York:20260313T120000
DTSTAMP:20260417T100649Z
DTSTART;TZID=America/New_York:20260313T100000
GEO:41.303230;-72.933870
LOCATION:Sterling Hall of Medicine\, L-Wing\, SHM-L111\, 333 Cedar Street\
 , New Haven\, CT\, United States
SEQUENCE:0
STATUS:Confirmed
SUMMARY:Getting Started with Data Analysis & Visualization (In-Person)
UID:7e21b864-5340-4d59-9be3-fd968f7c591e
END:VEVENT
END:VCALENDAR
