BEGIN:VCALENDAR
PRODID:-//github.com/ical-org/ical.net//NONSGML ical.net 4.0//EN
VERSION:2.0
BEGIN:VTIMEZONE
TZID:America/New_York
X-LIC-LOCATION:America/New_York
BEGIN:STANDARD
DTSTART:20241103T020000
RRULE:FREQ=YEARLY;BYDAY=1SU;BYMONTH=11
TZNAME:EST
TZOFFSETFROM:-0400
TZOFFSETTO:-0500
END:STANDARD
BEGIN:DAYLIGHT
DTSTART:20250309T020000
RRULE:FREQ=YEARLY;BYDAY=2SU;BYMONTH=3
TZNAME:EDT
TZOFFSETFROM:-0500
TZOFFSETTO:-0400
END:DAYLIGHT
END:VTIMEZONE
BEGIN:VEVENT
DESCRIPTION:Implementation science\, or the study of methods to improve th
 e adoption\, implementation\, and sustainment of evidence-based practices
  (EBPs)\, has grown exponentially in the past two decades. In this talk\,
  I will share an overview of my research with an eye towards grounding th
 e findings within the broader field and practice applications. First\, I 
 will describe what implementation science is and how it differs from othe
 r types of applied research. Second\, I will share learnings related to c
 onducting implementation science. I will draw on the partnered work that 
 I have conducted over the past two decades across settings. Third\, I wil
 l offer implications for the future of implementation science. Implementa
 tion science offers tremendous promise to realize the promise of the disc
 overies over the past few decades. However\, these advances will not be m
 ade without paradigm shifts within the field\, including intentional and 
 resourced commitment to closing the gap between what we know and what we 
 do—and investing in implementation\, not just discovery.\n\nSpeaker:\nRin
 ad Beidas\n\nAdmission:\nFree\n\nDetails URL:\nhttps://medicine.yale.edu/
 event/cmips-seminar-rinad-beidas/\n
DTEND;TZID=America/New_York:20260408T160000
DTSTAMP:20260421T131154Z
DTSTART;TZID=America/New_York:20260408T150000
LOCATION:URL: https://yale.zoom.us/s/98152477419
SEQUENCE:0
STATUS:Confirmed
SUMMARY:CMIPS Seminar: Rinad Beidas "Harnessing Implementation Science to 
 Achieve the Promise of Scientific Discovery for All"
UID:82c0fa6c-4652-4887-914a-5c749ca58439
END:VEVENT
END:VCALENDAR
