BEGIN:VCALENDAR
PRODID:-//github.com/ical-org/ical.net//NONSGML ical.net 4.0//EN
VERSION:2.0
BEGIN:VTIMEZONE
TZID:America/New_York
X-LIC-LOCATION:America/New_York
BEGIN:STANDARD
DTSTART:20241103T020000
RRULE:FREQ=YEARLY;BYDAY=1SU;BYMONTH=11
TZNAME:EST
TZOFFSETFROM:-0400
TZOFFSETTO:-0500
END:STANDARD
BEGIN:DAYLIGHT
DTSTART:20250309T020000
RRULE:FREQ=YEARLY;BYDAY=2SU;BYMONTH=3
TZNAME:EDT
TZOFFSETFROM:-0500
TZOFFSETTO:-0400
END:DAYLIGHT
END:VTIMEZONE
BEGIN:VEVENT
DESCRIPTION:Are you ready to take the first steps in using code to work wi
 th data? In this training\, you’ll learn how to use Python\, one of the m
 ost popular programming languages\, to analyze and visualize data. This t
 raining welcomes first-time coders and Python beginners\, so we’ll begin 
 with Python programming fundamentals before moving on to the basics of da
 ta analysis and visualization later in the training. In this 2-hour in-pe
 rson session\, you'll learn how to: Describe and use basic Python concept
 s (e.g.\, strings\, integers\, printing\, variables\, lists\, dictionarie
 s\, loops\, conditional logic\, etc.) Handle mistakes in coding Use add-o
 n modules (I.e.\, import libraries) for Python\, including numpy and matp
 lotlib. Read data into Python Perform basic statistical operations on dat
 a Create basic plots from data What to know about this session: This trai
 ning will be hands-on\; come ready to code alongside the instructor. You 
 will only need a google/gmail account as we will use the https://colab.re
 search.google.com/ environment.\n\nSpeaker:\nJustin DeMayo\n\nAdmission:\
 nFree: Open\; Registration is required.\n\nDetails URL:\nhttps://medicine
 .yale.edu/event/getting-started-with-data-analysis-and-visualization/\n
DTEND;TZID=America/New_York:20260212T120000
DTSTAMP:20260415T120315Z
DTSTART;TZID=America/New_York:20260212T100000
LOCATION:URL: https://schedule.yale.edu/event/16220734
SEQUENCE:0
STATUS:Confirmed
SUMMARY:Getting Started with Data Analysis & Visualization: Introduction t
 o Python (Python 1) (In-Person)
UID:04ce6ce6-a05d-4fce-b7db-db6c48894d83
END:VEVENT
END:VCALENDAR
