BEGIN:VCALENDAR
PRODID:-//github.com/ical-org/ical.net//NONSGML ical.net 4.0//EN
VERSION:2.0
BEGIN:VTIMEZONE
TZID:America/New_York
X-LIC-LOCATION:America/New_York
BEGIN:STANDARD
DTSTART:20241103T020000
RRULE:FREQ=YEARLY;BYDAY=1SU;BYMONTH=11
TZNAME:EST
TZOFFSETFROM:-0400
TZOFFSETTO:-0500
END:STANDARD
BEGIN:DAYLIGHT
DTSTART:20250309T020000
RRULE:FREQ=YEARLY;BYDAY=2SU;BYMONTH=3
TZNAME:EDT
TZOFFSETFROM:-0500
TZOFFSETTO:-0400
END:DAYLIGHT
END:VTIMEZONE
BEGIN:VEVENT
DESCRIPTION:You will learn: - Benefits & basics of a Version Control Syste
 m - Differences between git and GitHub - About remote repositories and wh
 y they are useful - How to use git in the terminal to initialize\, add\, 
 and commit files to a repository - Publish a repository to GitHub.com - O
 verview of GitHub.com & GitHub desktop - What git clone is and how to clo
 ne a remote repository in the terminal & desktop application Required sof
 tware/accounts: github.com account: https://github.com/signup If you are 
 bringing your own laptop\, you will need to install the following: GitHub
  Desktop: https://desktop.github.com/ Windows only: Git bash is required 
 and installed via Git below Git installer 64 bit direct link: https://git
 hub.com/git-for-windows/git/releases/download/v2.45.2.windows.1/Git-2.45.
 2-64-bit.exe You can click (several pages) through this installer to acce
 pt all of the defaults. Mac only: X-Code Developer tools 1. Open the Term
 inal application\, which you can find in your Applications > Utilities fo
 lder or by searching with Spotlight. Type the following command and press
  Enter:xcode-select --install Follow the on-screen instructions to instal
 l the Command Line Tools. This can also be installed via the app store vi
 a the 'Xcode' app.\n\nSpeaker:\nJustin DeMayo\n\nAdmission:\nFree: Open\;
  Registration is required.\n\nDetails URL:\nhttps://medicine.yale.edu/eve
 nt/git-and-github-an-introduction-online/\n
DTEND;TZID=America/New_York:20260209T120000
DTSTAMP:20260419T210642Z
DTSTART;TZID=America/New_York:20260209T100000
LOCATION:URL: https://schedule.yale.edu/event/16220730
SEQUENCE:0
STATUS:Confirmed
SUMMARY:Git & GitHub: An Introduction to Version Control
UID:a3ea17f9-c204-4b25-ba17-1a2b10214a0f
END:VEVENT
END:VCALENDAR
