BEGIN:VCALENDAR
PRODID:-//github.com/ical-org/ical.net//NONSGML ical.net 4.0//EN
VERSION:2.0
BEGIN:VTIMEZONE
TZID:America/New_York
X-LIC-LOCATION:America/New_York
BEGIN:STANDARD
DTSTART:20241103T020000
RRULE:FREQ=YEARLY;BYDAY=1SU;BYMONTH=11
TZNAME:EST
TZOFFSETFROM:-0400
TZOFFSETTO:-0500
END:STANDARD
BEGIN:DAYLIGHT
DTSTART:20250309T020000
RRULE:FREQ=YEARLY;BYDAY=2SU;BYMONTH=3
TZNAME:EDT
TZOFFSETFROM:-0500
TZOFFSETTO:-0400
END:DAYLIGHT
END:VTIMEZONE
BEGIN:VEVENT
DESCRIPTION:The focus of this Zoom-only lecture\, by Sakinah Carter Suttir
 atana \, PhD\, MPH\, MBA of YCC's COE faculty\, is "An Introduction to Co
 mmunity-Engaged Research for Cancer Researchers." The series aims to intr
 oduce core principles of community engaged research relevant to cancer pr
 evention\, detection\, treatment\, or care using case examples from YCC a
 nd elsewhere. This session will focus on principles for engaging communit
 y members and non-academic partners in research. To Register/RSVP . Parti
 cipants who attend all three sessions will receive a certificate of compl
 etion at the end of the program.\n\nSpeaker:\nSakinah Suttiratana\n\nAdmi
 ssion:\nFree\n\nDetails URL:\nhttps://medicine.yale.edu/event/foundations
 -of-community-engagement-in-cancer-research/\n
DTEND;TZID=America/New_York:20260223T120000
DTSTAMP:20260323T022246Z
DTSTART;TZID=America/New_York:20260223T110000
LOCATION:Zoom Link\n\n
SEQUENCE:0
STATUS:Confirmed
SUMMARY:Foundations of Community Engagement in Cancer Research
UID:8fe14109-1a07-4470-ab7d-008a533311d5
END:VEVENT
END:VCALENDAR
