BEGIN:VCALENDAR
PRODID:-//github.com/ical-org/ical.net//NONSGML ical.net 4.0//EN
VERSION:2.0
BEGIN:VTIMEZONE
TZID:America/New_York
X-LIC-LOCATION:America/New_York
BEGIN:STANDARD
DTSTART:20241103T020000
RRULE:FREQ=YEARLY;BYDAY=1SU;BYMONTH=11
TZNAME:EST
TZOFFSETFROM:-0400
TZOFFSETTO:-0500
END:STANDARD
BEGIN:DAYLIGHT
DTSTART:20250309T020000
RRULE:FREQ=YEARLY;BYDAY=2SU;BYMONTH=3
TZNAME:EDT
TZOFFSETFROM:-0500
TZOFFSETTO:-0400
END:DAYLIGHT
END:VTIMEZONE
BEGIN:VEVENT
DESCRIPTION:Join the Yale School of Public Health for our 2026 Conference 
 The Yale School of Public Health (YSPH) is excited to announce our 2026 C
 onference entitled\, “ Rebuilding Trust in Public Health: Causes\, Conseq
 uences\, and Responses\,” which will be held on February 10\, 2026\, at Y
 ale University in Kline Tower. Trust in institutions—especially in public
  health—is declining. The Yale School of Public Health is helping reverse
  this trend by convening researchers\, students\, practitioners\, communi
 cators\, policy-makers\, and community partners for a conference examinin
 g the roots\, impacts\, and extent of public health distrust\, as well as
  innovative efforts and future strategies to address it. This conference 
 will feature four panel sessions and close with a keynote speaker and rec
 eption. Capacity for the conference is limited\, and a ticket is required
  to attend. This conference is co-sponsored by The Institution for Social
  and Policy Studies (ISPS) at Yale University and the MacMillan Center fo
 r International & Area Studies at Yale . Please contact Holly Zoeller at 
 holly.zoeller@yale.edu with any questions you may have.\n\nAdmission:\nFr
 ee\n\nDetails URL:\nhttps://medicine.yale.edu/event/rebuilding-trust-in-p
 ublic-health-causes-consequences-and-responses/\n
DTEND;TZID=America/New_York;VALUE=DATE:20260211
DTSTAMP:20260415T114938Z
DTSTART;TZID=America/New_York;VALUE=DATE:20260210
GEO:41.317278;-72.922530
LOCATION:Kline Biology Tower\, Kline 14\, 219 Prospect Street\, New Haven\
 , CT\, United States
SEQUENCE:0
STATUS:Confirmed
SUMMARY:Rebuilding Trust in Public Health: Causes\, Consequences\, and Res
 ponses
UID:c0eb5623-9541-4529-af76-07780ab01d59
END:VEVENT
END:VCALENDAR
