BEGIN:VCALENDAR
PRODID:-//github.com/ical-org/ical.net//NONSGML ical.net 4.0//EN
VERSION:2.0
BEGIN:VTIMEZONE
TZID:America/New_York
X-LIC-LOCATION:America/New_York
BEGIN:STANDARD
DTSTART:20241103T020000
RRULE:FREQ=YEARLY;BYDAY=1SU;BYMONTH=11
TZNAME:EST
TZOFFSETFROM:-0400
TZOFFSETTO:-0500
END:STANDARD
BEGIN:DAYLIGHT
DTSTART:20250309T020000
RRULE:FREQ=YEARLY;BYDAY=2SU;BYMONTH=3
TZNAME:EDT
TZOFFSETFROM:-0500
TZOFFSETTO:-0400
END:DAYLIGHT
END:VTIMEZONE
BEGIN:VEVENT
DESCRIPTION:Demystifying selection bias Does it really matter if my sample
  does not represent my population? And is it true that selection bias can
  still apply\, even when my sample is the same as my target population? T
 his interactive workshop - from Visiting Associate Professor Peter Tennan
 t - will use practical exercises and directed acyclic graphs to introduce
  the latest theory on the nature\, importance of\, and solutions to selec
 tion bias. An essential event for anyone who studies non-experimental dat
 a.\n\nAdmission:\nFree\n\nDetails URL:\nhttps://medicine.yale.edu/event/s
 election-bias-workshop/\n
DTEND;TZID=America/New_York:20260406T120000
DTSTAMP:20260419T015335Z
DTSTART;TZID=America/New_York:20260406T090000
GEO:41.303666;-72.932218
LOCATION:Yale School of Public Health (LEPH)\, 102\, 60 College Street\, N
 ew Haven\, CT\, United States
SEQUENCE:0
STATUS:Confirmed
SUMMARY:Demystifying Selection Bias Workshop
UID:4a9d8ff8-3067-483c-85fb-027555a9ddcd
END:VEVENT
END:VCALENDAR
