BEGIN:VCALENDAR
PRODID:-//github.com/ical-org/ical.net//NONSGML ical.net 4.0//EN
VERSION:2.0
BEGIN:VTIMEZONE
TZID:America/New_York
X-LIC-LOCATION:America/New_York
BEGIN:STANDARD
DTSTART:20241103T020000
RRULE:FREQ=YEARLY;BYDAY=1SU;BYMONTH=11
TZNAME:EST
TZOFFSETFROM:-0400
TZOFFSETTO:-0500
END:STANDARD
BEGIN:DAYLIGHT
DTSTART:20250309T020000
RRULE:FREQ=YEARLY;BYDAY=2SU;BYMONTH=3
TZNAME:EDT
TZOFFSETFROM:-0500
TZOFFSETTO:-0400
END:DAYLIGHT
END:VTIMEZONE
BEGIN:VEVENT
DESCRIPTION:\nAdmission:\nFree\n\nFood:\nSnacks\n\nDetails URL:\nhttps://m
 edicine.yale.edu/event/ettingtartedwithitandithub-art2/\n
DTEND;TZID=America/New_York:20260126T170000
DTSTAMP:20260422T022953Z
DTSTART;TZID=America/New_York:20260126T160000
GEO:41.303666;-72.932218
LOCATION:Yale School of Public Health (LEPH)\, 103\, 60 College Street\, N
 ew Haven\, CT\, United States
SEQUENCE:0
STATUS:Confirmed
SUMMARY:Getting Started with Git and Github - Part 2
UID:879efec0-7885-41dd-8a0d-8b90e88b694d
END:VEVENT
END:VCALENDAR
