BEGIN:VCALENDAR
PRODID:-//github.com/ical-org/ical.net//NONSGML ical.net 4.0//EN
VERSION:2.0
BEGIN:VTIMEZONE
TZID:America/New_York
X-LIC-LOCATION:America/New_York
BEGIN:STANDARD
DTSTART:20241103T020000
RRULE:FREQ=YEARLY;BYDAY=1SU;BYMONTH=11
TZNAME:EST
TZOFFSETFROM:-0400
TZOFFSETTO:-0500
END:STANDARD
BEGIN:DAYLIGHT
DTSTART:20250309T020000
RRULE:FREQ=YEARLY;BYDAY=2SU;BYMONTH=3
TZNAME:EDT
TZOFFSETFROM:-0500
TZOFFSETTO:-0400
END:DAYLIGHT
END:VTIMEZONE
BEGIN:VEVENT
DESCRIPTION:Registration required NIH will implement the Biographical Sket
 ch Common Form and the Current and Pending (Other) Support Common Form fo
 r Research Performance Progress Reports (RPRRs) and application submissio
 ns on or after January 25\, 2026. This session will help researchers fami
 liarize with Science Experts Network Curriculum Vitae (SciENcv) website t
 o complete the Biographical Sketch\, Current and Pending (Other) Support.
  This session will cover: Creating an ORCID account Linking the MyNCBI ac
 count to the eRA Commons Creating and populating a MyBibliography section
  Import references from file into MyBibliography Creating an NIH biograph
 ical sketch Creating a Current and Pending (Other) Support document How t
 o add a delegate to MyNCBI account\n\nSpeaker:\nRolando Garcia Milian\n\n
 Admission:\nFree\n\nDetails URL:\nhttps://medicine.yale.edu/event/grant-a
 pplication-readiness-creating-the-biosketch-and-pending-other-support/\n
DTEND;TZID=America/New_York:20260112T140000
DTSTAMP:20260401T114226Z
DTSTART;TZID=America/New_York:20260112T130000
LOCATION:URL: https://schedule.yale.edu/event/16050861
SEQUENCE:0
STATUS:Confirmed
SUMMARY:Grant Application Readiness
UID:a3af01f4-2b3c-4b23-aeec-11e11651f129
END:VEVENT
END:VCALENDAR
