BEGIN:VCALENDAR
PRODID:-//github.com/ical-org/ical.net//NONSGML ical.net 4.0//EN
VERSION:2.0
BEGIN:VTIMEZONE
TZID:America/New_York
X-LIC-LOCATION:America/New_York
BEGIN:STANDARD
DTSTART:20241103T020000
RRULE:FREQ=YEARLY;BYDAY=1SU;BYMONTH=11
TZNAME:EST
TZOFFSETFROM:-0400
TZOFFSETTO:-0500
END:STANDARD
BEGIN:DAYLIGHT
DTSTART:20250309T020000
RRULE:FREQ=YEARLY;BYDAY=2SU;BYMONTH=3
TZNAME:EDT
TZOFFSETFROM:-0500
TZOFFSETTO:-0400
END:DAYLIGHT
END:VTIMEZONE
BEGIN:VEVENT
DESCRIPTION:To assist with any ongoing issues related to the YSPH Box Migr
 ation\, the Yale ITS Email and Collaboration Team will be available for 1
 :1 support for the YSPH community.\n\nAdmission:\nFree\n\nDetails URL:\nh
 ttps://medicine.yale.edu/event/ysph-box-migration-it-support-3/\n
DTEND;TZID=America/New_York:20260122T130000
DTSTAMP:20260418T034905Z
DTSTART;TZID=America/New_York:20260122T120000
LOCATION:To assist with any ongoing issues related to the YSPH Box Migrati
 on\, the Yale ITS Email and Collaboration Team will be available for 1:1 
 support for the YSPH community. \, URL: https://yale.zoom.us/j/9207509901
 4?from=addon://
SEQUENCE:0
STATUS:Confirmed
SUMMARY:YSPH Box Migration IT Support
UID:0462d9f0-f37f-4bc8-bc9d-8f2e55112e08
END:VEVENT
END:VCALENDAR
