BEGIN:VCALENDAR
PRODID:-//github.com/ical-org/ical.net//NONSGML ical.net 4.0//EN
VERSION:2.0
BEGIN:VTIMEZONE
TZID:America/New_York
X-LIC-LOCATION:America/New_York
BEGIN:STANDARD
DTSTART:20241103T020000
RRULE:FREQ=YEARLY;BYDAY=1SU;BYMONTH=11
TZNAME:EST
TZOFFSETFROM:-0400
TZOFFSETTO:-0500
END:STANDARD
BEGIN:DAYLIGHT
DTSTART:20250309T020000
RRULE:FREQ=YEARLY;BYDAY=2SU;BYMONTH=3
TZNAME:EDT
TZOFFSETFROM:-0500
TZOFFSETTO:-0400
END:DAYLIGHT
END:VTIMEZONE
BEGIN:VEVENT
DESCRIPTION:Whitney S. Rice\, DrPH\, MPH is a Rollins Assistant Professor 
 in the Department of Behavioral\, Social and Health Education Sciences at
  the Emory Rollins School of Public Health\, and Director of the Center f
 or Reproductive Health Research in the Southeast (RISE ). RISE conducts r
 esearch to inform social\, systems and policy change in the direction of 
 greater reproductive equity in the US Southeast region\, in partnership w
 ith reproductive health\, rights and justice organizations\, and also pro
 vides training and career development opportunities to early career profe
 ssionals in the field. Dr. Rice has led research to evaluate effects of s
 tate-level abortion and contraception policy\, and creative community-dri
 ven opportunities to address reproductive health access gaps in settings 
 with restrictive reproductive health policy. She is a public-facing schol
 ar\, who has discussed this research in expert witness testimony in the m
 edia.\n\nSpeaker:\nDr. Whitney Smith Rice\n\nAdmission:\nFree\n\nDetails 
 URL:\nhttps://medicine.yale.edu/event/ysph-sbs-526-seminar-series-dr-whit
 ney-smith-rice-emory-university/\n
DTEND;TZID=America/New_York:20260331T125000
DTSTAMP:20260413T054251Z
DTSTART;TZID=America/New_York:20260331T120000
GEO:41.303666;-72.932218
LOCATION:Yale School of Public Health (LEPH)\, Winslow Auditorium\, 60 Col
 lege Street\, New Haven\, CT\, United States
SEQUENCE:0
STATUS:Cancelled
SUMMARY:CANCELLED! YSPH-SBS 526 Seminar Series: Dr. Whitney Smith Rice\, E
 mory University
UID:9ea20550-e22c-43bd-98a7-c9998458e482
END:VEVENT
END:VCALENDAR
