BEGIN:VCALENDAR
PRODID:-//github.com/ical-org/ical.net//NONSGML ical.net 4.0//EN
VERSION:2.0
BEGIN:VTIMEZONE
TZID:America/New_York
X-LIC-LOCATION:America/New_York
BEGIN:STANDARD
DTSTART:20241103T020000
RRULE:FREQ=YEARLY;BYDAY=1SU;BYMONTH=11
TZNAME:EST
TZOFFSETFROM:-0400
TZOFFSETTO:-0500
END:STANDARD
BEGIN:DAYLIGHT
DTSTART:20250309T020000
RRULE:FREQ=YEARLY;BYDAY=2SU;BYMONTH=3
TZNAME:EDT
TZOFFSETFROM:-0500
TZOFFSETTO:-0400
END:DAYLIGHT
END:VTIMEZONE
BEGIN:VEVENT
DESCRIPTION:NOTE: EHS 525 students are required to attend in person. Other
 s are invited to attend in person\, but may also attend via Zoom. Join UR
 L: https://yale.zoom.us/j/92794219807 ) SPEAKER: Alexandra White\, PhD\, 
 MPH\, Principal Investigator\, NIEHS TITLE: "The Breast Cancer Exposome: 
 Uncovering the Role of Environmental Chemicals" BIO: Dr. Alexandra White 
 is a Stadtman Investigator in the Epidemiology Branch in the Division of 
 Intramural Research at the National Institute of Environmental Health Sci
 ence where she leads the Environment and Cancer Epidemiology Group. She r
 eceived her MSPH in 2012 and her PhD in 2015 from the Department of Epide
 miology at the University of North Carolina at Chapel Hill Gillings Schoo
 l of Global Public Health. Dr. White is a Co-investigator of the Sister S
 tudy\, a large prospective cohort of women in the U.S. who are followed f
 or breast cancer and other health outcomes. Her research focuses on ident
 ifying environment and lifestyle risk factors for breast and reproductive
  cancers and understanding the biologic mechanisms that allow cancer to d
 evelop. Dr. White uses geospatial data to evaluate widespread environment
 al exposures such as air pollution as well as biomarkers and questionnair
 e data to assess the risk associated with chemicals found in personal car
 e and other everyday products. YSPH values inclusion & access for all par
 ticipants. If you have questions about accessibility or would like to req
 uest an accommodation\, please contact Laura Wiggins at laura.wiggins@yal
 e.edu by Tuesday\, February 24\, 2026.\n\nSpeaker:\nAlexandra White\, PhD
 \, MPH \n\nAdmission:\nFree\n\nFood:\nLunch: Pizza \n\nDetails URL:\nhttp
 s://medicine.yale.edu/event/ysphehs-seminar-the-breast-cancer-exposome-un
 covering-the-role-of-environmental-chemicals/\n
DTEND;TZID=America/New_York:20260304T125000
DTSTAMP:20260410T231654Z
DTSTART;TZID=America/New_York:20260304T120000
GEO:41.303666;-72.932218
LOCATION:Yale School of Public Health (LEPH)\, 101\, 60 College Street\, N
 ew Haven\, CT\, United States
SEQUENCE:0
STATUS:Confirmed
SUMMARY:YSPH/EHS SUPERFUND RESEARCH CENTER Seminar: The Breast Cancer Expo
 some: Uncovering the Role of Environmental Chemicals
UID:88f2b50c-b4c7-4676-ad2f-56d865bc8aa6
END:VEVENT
END:VCALENDAR
