BEGIN:VCALENDAR
PRODID:-//github.com/ical-org/ical.net//NONSGML ical.net 4.0//EN
VERSION:2.0
BEGIN:VTIMEZONE
TZID:America/New_York
X-LIC-LOCATION:America/New_York
BEGIN:STANDARD
DTSTART:20241103T020000
RRULE:FREQ=YEARLY;BYDAY=1SU;BYMONTH=11
TZNAME:EST
TZOFFSETFROM:-0400
TZOFFSETTO:-0500
END:STANDARD
BEGIN:DAYLIGHT
DTSTART:20250309T020000
RRULE:FREQ=YEARLY;BYDAY=2SU;BYMONTH=3
TZNAME:EDT
TZOFFSETFROM:-0500
TZOFFSETTO:-0400
END:DAYLIGHT
END:VTIMEZONE
BEGIN:VEVENT
DESCRIPTION:Join Jen Farkas\, Director of Financial Aid\, for an overview 
 of the YSPH financial aid process. Topics covered will include school spo
 nsored scholarships\, on campus student employment\, applying for loans a
 nd searching for external funding. Please join the session at: https://ya
 le.zoom.us/meeting/register/y32vm5eaTi69MIMJhncZMg\n\nAdmission:\nFree\n\
 nDetails URL:\nhttps://medicine.yale.edu/event/mph-financial-aid-informat
 ion-sessiondec11/\n
DTEND;TZID=America/New_York:20251211T130000
DTSTAMP:20260328T014403Z
DTSTART;TZID=America/New_York:20251211T120000
LOCATION:URL: https://yale.zoom.us/meeting/register/y32vm5eaTi69MIMJhncZMg
SEQUENCE:0
STATUS:Confirmed
SUMMARY:MPH Financial Aid Information Session
UID:24de887b-02f9-49c4-a03b-4d67891142d7
END:VEVENT
END:VCALENDAR
