BEGIN:VCALENDAR
PRODID:-//github.com/ical-org/ical.net//NONSGML ical.net 4.0//EN
VERSION:2.0
BEGIN:VTIMEZONE
TZID:America/New_York
X-LIC-LOCATION:America/New_York
BEGIN:STANDARD
DTSTART:20241103T020000
RRULE:FREQ=YEARLY;BYDAY=1SU;BYMONTH=11
TZNAME:EST
TZOFFSETFROM:-0400
TZOFFSETTO:-0500
END:STANDARD
BEGIN:DAYLIGHT
DTSTART:20250309T020000
RRULE:FREQ=YEARLY;BYDAY=2SU;BYMONTH=3
TZNAME:EDT
TZOFFSETFROM:-0500
TZOFFSETTO:-0400
END:DAYLIGHT
END:VTIMEZONE
BEGIN:VEVENT
DESCRIPTION:Please join the Executive MPH Program Director\, Dr. Abigail F
 riedman\, for a discussion about our hybrid online - onsite MPH program d
 esigned for working professionals.\n\nAdmission:\nFree\n\nDetails URL:\nh
 ttps://medicine.yale.edu/event/executive-mph-program-information-sessiond
 ec12/\n
DTEND;TZID=America/New_York:20251212T123000
DTSTAMP:20260414T015109Z
DTSTART;TZID=America/New_York:20251212T120000
LOCATION:URL: https://yale.zoom.us/meeting/register/pXC4ucHuQpSsJZwoyPiOBg
SEQUENCE:0
STATUS:Confirmed
SUMMARY:Executive MPH Program Information Session
UID:c1e2a546-d0a9-4afc-a460-0e3002e5888d
END:VEVENT
END:VCALENDAR
