BEGIN:VCALENDAR
PRODID:-//github.com/ical-org/ical.net//NONSGML ical.net 4.0//EN
VERSION:2.0
BEGIN:VTIMEZONE
TZID:America/New_York
X-LIC-LOCATION:America/New_York
BEGIN:STANDARD
DTSTART:20241103T020000
RRULE:FREQ=YEARLY;BYDAY=1SU;BYMONTH=11
TZNAME:EST
TZOFFSETFROM:-0400
TZOFFSETTO:-0500
END:STANDARD
BEGIN:DAYLIGHT
DTSTART:20250309T020000
RRULE:FREQ=YEARLY;BYDAY=2SU;BYMONTH=3
TZNAME:EDT
TZOFFSETFROM:-0500
TZOFFSETTO:-0400
END:DAYLIGHT
END:VTIMEZONE
BEGIN:VEVENT
DESCRIPTION:During the Ludwig annual Research Symposium\, awardees from Cy
 cle 1 of the Carol and Gene Ludwig Pilot Grant Program (PGP) will deliver
  short presentations to share progress and discuss future directions of t
 heir funded work with the Yale neuroimmune community. The symposium also 
 includes two other invited Yale faculty speakers. 1:00 PM - Akiko Iwasaki
 \, PhD "Science behind failure to recover from infections.” 2:00 PM - Emi
 lia Favuzzi\, PhD "Impact of peripheral immune challenges on microglia an
 d neurons across aging” 2:30 PM - Shawn Ferguson\, PhD "Intersection of I
 nnate Immunity with Lysosome Quality Control in ALS-FTD” 3:00 PM - Le Zha
 ng\, PhD "Elucidating Neuroimmune Interactions in Parkinson's Disease Usi
 ng a Novel Humanized Mouse Model” 3:30 PM Break with refreshments 4:00 PM
  - David Martinez\, PhD "Encephalitic viral infection\, inflammation\, an
 d onset of neurodegenerative disease” 4:30 PM - Yifei Cai\, PhD "Investig
 ate the role of complement pathway in axonal pathology in Alzheimer’s dis
 ease” 5:00 PM - Noah Palm\, PhD "Commensal manipulation of host immunity”
 \n\nSpeakers:\nEmilia Favuzzi\; Shawn Ferguson\; Yifei Cai\; David Martin
 ez\; Le Zhang\; Noah Palm\; Akiko Iwasaki\n\nAdmission:\nFree\n\nFood:\nC
 offee\n\nDetails URL:\nhttps://medicine.yale.edu/event/carol-and-gene-lud
 wig-annual-research-symposium/\n
DTEND;TZID=America/New_York:20260423T180000
DTSTAMP:20260420T172944Z
DTSTART;TZID=America/New_York:20260423T130000
GEO:41.304215;-72.931754
LOCATION:1116\, 100 College Street\, New Haven\, CT\, United States
SEQUENCE:0
STATUS:Confirmed
SUMMARY:Carol and Gene Ludwig Annual Research Symposium
UID:e855a6a3-786b-4089-a700-4497ef472b10
END:VEVENT
END:VCALENDAR
