BEGIN:VCALENDAR
PRODID:-//github.com/ical-org/ical.net//NONSGML ical.net 4.0//EN
VERSION:2.0
BEGIN:VTIMEZONE
TZID:America/New_York
X-LIC-LOCATION:America/New_York
BEGIN:STANDARD
DTSTART:20241103T020000
RRULE:FREQ=YEARLY;BYDAY=1SU;BYMONTH=11
TZNAME:EST
TZOFFSETFROM:-0400
TZOFFSETTO:-0500
END:STANDARD
BEGIN:DAYLIGHT
DTSTART:20250309T020000
RRULE:FREQ=YEARLY;BYDAY=2SU;BYMONTH=3
TZNAME:EDT
TZOFFSETFROM:-0500
TZOFFSETTO:-0400
END:DAYLIGHT
END:VTIMEZONE
BEGIN:VEVENT
DESCRIPTION:PRESENTERS: Laura Bothwell\, PhD\, MA – Senior Lecturer\, Epid
 emiology of Microbial Diseases\, Yale School of Public Health Dr. Bothwel
 l is an ethicist and historian of public health. Her research examines so
 cial\, historical\, and ethical dimensions of epidemiology with a particu
 lar focus on randomized controlled trials (RCTs). Her current book projec
 t examines how international and national policies have influenced trial 
 rigor and ethics\, protections of vulnerable trial subjects\, and partici
 pant diversity in RCTs. She also does work on community-based participato
 ry research ethics in low- and middle-income countries. QRDG Overview: Th
 e goal of the Qualitative Research Discussion Group (QRDG) is to provide 
 opportunities for individuals involved in qualitative or mixed-methods re
 search to meet regularly to discuss the qualitative research process and 
 potentially problem-solve issues that may arise when engaged in qualitati
 ve research. Discussion topics include\, but are not limited to: logistic
 s\, data management\, analysis\, dissemination\, role of the researcher\,
  and ethics. It is intended as a venue for discussing research in progres
 s and new or relevant literature on qualitative methods and practice as w
 ell as to create networking opportunities and foster research collaborati
 ons. CIRA's Dissemination Implementation Science and Methods (DISM) Core 
 member\, Lauretta Grau\, PhD\, is coordinating the meetings. She can be r
 eached at lauretta.grau@yale.edu .\n\nSpeaker:\nLaura Bothwell\n\nAdmissi
 on:\nFree\n\nDetails URL:\nhttps://medicine.yale.edu/event/cira-qrdg-2025
 -november-bothwell/\n
DTEND;TZID=America/New_York:20251121T130000
DTSTAMP:20260407T170523Z
DTSTART;TZID=America/New_York:20251121T120000
LOCATION:URL: https://yale.zoom.us/j/93012332332
SEQUENCE:0
STATUS:Confirmed
SUMMARY:CIRA Qualitative Research Discussion Group (QRDG): "Exploring the 
 History of Randomized Controlled Trials"
UID:aded2edf-aae1-4f28-b3ee-7844a2313bea
END:VEVENT
END:VCALENDAR
