BEGIN:VCALENDAR
PRODID:-//github.com/ical-org/ical.net//NONSGML ical.net 4.0//EN
VERSION:2.0
BEGIN:VTIMEZONE
TZID:America/New_York
X-LIC-LOCATION:America/New_York
BEGIN:STANDARD
DTSTART:20241103T020000
RRULE:FREQ=YEARLY;BYDAY=1SU;BYMONTH=11
TZNAME:EST
TZOFFSETFROM:-0400
TZOFFSETTO:-0500
END:STANDARD
BEGIN:DAYLIGHT
DTSTART:20250309T020000
RRULE:FREQ=YEARLY;BYDAY=2SU;BYMONTH=3
TZNAME:EDT
TZOFFSETFROM:-0500
TZOFFSETTO:-0400
END:DAYLIGHT
END:VTIMEZONE
BEGIN:VEVENT
DESCRIPTION:Faculty from the department of Biostatistics will join the Off
 ice of Admissions to speak with prospective students about the department
 . Led by Dr. Xin Zhou\, this event will provide the opportunity for prosp
 ective students to learn more about the BIS MPH curriculum\, areas of fac
 ulty focus and more!\n\nAdmission:\nFree\n\nDetails URL:\nhttps://medicin
 e.yale.edu/event/biostatistics-mph-information-session/\n
DTEND;TZID=America/New_York:20251120T180000
DTSTAMP:20260418T114417Z
DTSTART;TZID=America/New_York:20251120T170000
LOCATION:URL: https://yale.zoom.us/j/99929411204
SEQUENCE:0
STATUS:Confirmed
SUMMARY:Biostatistics MPH Information Session
UID:85699450-f471-430e-b7dd-f08b6b419212
END:VEVENT
END:VCALENDAR
