BEGIN:VCALENDAR
PRODID:-//github.com/ical-org/ical.net//NONSGML ical.net 4.0//EN
VERSION:2.0
BEGIN:VTIMEZONE
TZID:America/New_York
X-LIC-LOCATION:America/New_York
BEGIN:STANDARD
DTSTART:20241103T020000
RRULE:FREQ=YEARLY;BYDAY=1SU;BYMONTH=11
TZNAME:EST
TZOFFSETFROM:-0400
TZOFFSETTO:-0500
END:STANDARD
BEGIN:DAYLIGHT
DTSTART:20250309T020000
RRULE:FREQ=YEARLY;BYDAY=2SU;BYMONTH=3
TZNAME:EDT
TZOFFSETFROM:-0500
TZOFFSETTO:-0400
END:DAYLIGHT
END:VTIMEZONE
BEGIN:VEVENT
DESCRIPTION:The Yale Program in Addiction Medicine is pleased to welcome R
 ose Schmidt\, PhD\, as guest speaker for Addiction Medicine Grand Rounds 
 on December 9\, 2025. This event will be held in a virtual format. Title:
  The Use of Medications for Opioid Use Disorder During Pregnancy Learning
  Objectives: Describe patterns and disparities in methadone and buprenorp
 hine use during pregnancy. Explain how structural and social factors infl
 uence engagement with MOUD among pregnant people. Evaluate how stigma\, s
 urveillance\, and child protection involvement shape patients’ decision-m
 aking about MOUD. Addiction Medicine Rounds are CME accredited. Each sess
 ion will be assigned 1 AMA PRA Category 1 Credits TM\n\nSpeaker:\nRose Sc
 hmidt\, PhD\, MPH\n\nAdmission:\nFree\n\nDetails URL:\nhttps://medicine.y
 ale.edu/event/addiction-medicine-grand-rounds-methadone-pregnancy/\n
DTEND;TZID=America/New_York:20260303T130000
DTSTAMP:20260404T061223Z
DTSTART;TZID=America/New_York:20260303T120000
LOCATION:This session will be held in a virtual  format. \, URL: https://y
 alesurvey.ca1.qualtrics.com/jfe/form/SV_1Yt6XGwv9ClZCLQ
SEQUENCE:0
STATUS:Confirmed
SUMMARY:Addiction Medicine Grand Rounds: The Use of Medications for Opioid
  Use Disorder During Pregnancy
UID:ca5b7d78-2fcc-4453-9b44-77f8d0f2dbc0
END:VEVENT
END:VCALENDAR
