BEGIN:VCALENDAR
PRODID:-//github.com/ical-org/ical.net//NONSGML ical.net 4.0//EN
VERSION:2.0
BEGIN:VTIMEZONE
TZID:America/New_York
X-LIC-LOCATION:America/New_York
BEGIN:STANDARD
DTSTART:20241103T020000
RRULE:FREQ=YEARLY;BYDAY=1SU;BYMONTH=11
TZNAME:EST
TZOFFSETFROM:-0400
TZOFFSETTO:-0500
END:STANDARD
BEGIN:DAYLIGHT
DTSTART:20250309T020000
RRULE:FREQ=YEARLY;BYDAY=2SU;BYMONTH=3
TZNAME:EDT
TZOFFSETFROM:-0500
TZOFFSETTO:-0400
END:DAYLIGHT
END:VTIMEZONE
BEGIN:VEVENT
DESCRIPTION:Please join us for Katerina Santiago (CDE) dissertation presen
 tation on November 12\, 2025\, at 12pm. This is a hybrid presentation. Pl
 ease join us in the Office of Student Affairs conference room Suite 108 (
 47 College St.) or via Zoom. Katerina will be presenting her research ent
 itled: "Role of Sleep-Wake Characteristics and Occupational Exposures on 
 Colorectal Cancer Risk ."\n\nSpeaker:\nKaterina Santiago\n\nAdmission:\nF
 ree\n\nDetails URL:\nhttps://medicine.yale.edu/event/ysph-phd-dissertatio
 n-presentation-katerina-santiago-cde/\n
DTEND;TZID=America/New_York:20251112T130000
DTSTAMP:20260415T203638Z
DTSTART;TZID=America/New_York:20251112T120000
LOCATION:Zoom Link:  https://yale.zoom.us/j/96509608836\n
SEQUENCE:0
STATUS:Confirmed
SUMMARY:YSPH PhD Dissertation Presentation-Katerina Santiago (CDE)
UID:2496bf6c-057e-4ce1-99cb-c884848471c1
END:VEVENT
END:VCALENDAR
