BEGIN:VCALENDAR
PRODID:-//github.com/ical-org/ical.net//NONSGML ical.net 4.0//EN
VERSION:2.0
BEGIN:VTIMEZONE
TZID:America/New_York
X-LIC-LOCATION:America/New_York
BEGIN:STANDARD
DTSTART:20241103T020000
RRULE:FREQ=YEARLY;BYDAY=1SU;BYMONTH=11
TZNAME:EST
TZOFFSETFROM:-0400
TZOFFSETTO:-0500
END:STANDARD
BEGIN:DAYLIGHT
DTSTART:20250309T020000
RRULE:FREQ=YEARLY;BYDAY=2SU;BYMONTH=3
TZNAME:EDT
TZOFFSETFROM:-0500
TZOFFSETTO:-0400
END:DAYLIGHT
END:VTIMEZONE
BEGIN:VEVENT
DESCRIPTION:Please join us for Yining Li's (CDE) dissertation presentation
  on November 18\, 2025\, at 10am. This is a hybrid presentation. Please j
 oin us in LEPH room 103 or via Zoom. Yining will be presenting her resear
 ch entitled: "Delineating Asthma Heterogeneity through Genetic Pleiotropy
  Analyses between Asthma by Age at Onset and Lung Function ."\n\nSpeaker:
 \nYining Li\n\nAdmission:\nFree\n\nDetails URL:\nhttps://medicine.yale.ed
 u/event/ysph-phd-dissertation-presentation-yining-li-cde/\n
DTEND;TZID=America/New_York:20251118T110000
DTSTAMP:20260320T150422Z
DTSTART;TZID=America/New_York:20251118T100000
LOCATION:Zoom link:  https://yale.zoom.us/j/92021723821\n
SEQUENCE:0
STATUS:Confirmed
SUMMARY:YSPH PhD Dissertation Presentation-Yining Li (CDE)
UID:2b2c3aaa-1ff9-41b2-a5e5-823423f9111c
END:VEVENT
END:VCALENDAR
