BEGIN:VCALENDAR
PRODID:-//github.com/ical-org/ical.net//NONSGML ical.net 4.0//EN
VERSION:2.0
BEGIN:VTIMEZONE
TZID:America/New_York
X-LIC-LOCATION:America/New_York
BEGIN:STANDARD
DTSTART:20241103T020000
RRULE:FREQ=YEARLY;BYDAY=1SU;BYMONTH=11
TZNAME:EST
TZOFFSETFROM:-0400
TZOFFSETTO:-0500
END:STANDARD
BEGIN:DAYLIGHT
DTSTART:20250309T020000
RRULE:FREQ=YEARLY;BYDAY=2SU;BYMONTH=3
TZNAME:EDT
TZOFFSETFROM:-0500
TZOFFSETTO:-0400
END:DAYLIGHT
END:VTIMEZONE
BEGIN:VEVENT
DESCRIPTION:\nSpeaker:\nHarsh Parikh\n\nAdmission:\nFree\n\nFood:\nLunch a
 vailable to those enrolled in the seminar\n\nDetails URL:\nhttps://medici
 ne.yale.edu/event/strengthening-immunization-systems-serosurveillance/\n
DTEND;TZID=America/New_York:20251103T130000
DTSTAMP:20260421T021128Z
DTSTART;TZID=America/New_York:20251103T120000
GEO:41.302961;-72.931638
LOCATION:106A\, 47 College Street\, New Haven\, CT\, United States
SEQUENCE:0
STATUS:Confirmed
SUMMARY:Regularizing Extrapolation in Causal Inference
UID:5dd02948-f842-4d94-8977-efe96296d555
END:VEVENT
END:VCALENDAR
