BEGIN:VCALENDAR
PRODID:-//github.com/ical-org/ical.net//NONSGML ical.net 4.0//EN
VERSION:2.0
BEGIN:VTIMEZONE
TZID:America/New_York
X-LIC-LOCATION:America/New_York
BEGIN:STANDARD
DTSTART:20241103T020000
RRULE:FREQ=YEARLY;BYDAY=1SU;BYMONTH=11
TZNAME:EST
TZOFFSETFROM:-0400
TZOFFSETTO:-0500
END:STANDARD
BEGIN:DAYLIGHT
DTSTART:20250309T020000
RRULE:FREQ=YEARLY;BYDAY=2SU;BYMONTH=3
TZNAME:EDT
TZOFFSETFROM:-0500
TZOFFSETTO:-0400
END:DAYLIGHT
END:VTIMEZONE
BEGIN:VEVENT
DESCRIPTION:The Yale School of Medicine Program for Art in Public Spaces i
 nvites you to attend the unveiling of a joint portrait that honors James 
 Comer\, MD\, MPH\, Maurice Falk Professor in the Child Study Center and C
 urtis Patton\, PhD\, professor emeritus of epidemiology (microbial diseas
 es)\, for their tireless\, decades-long efforts in building community and
  advocating for medical students\, residents\, fellows\, and young facult
 y. The portrait\, painted by Mario Moore (MFA ’13)\, will be unveiled on 
 Thursday\, Dec. 11\, 2025\, at 4 p.m. in the Harvey Cushing/John Hay Whit
 ney Medical Library. REGISTRATION TO ATTEND IN-PERSON HAS CLOSED FOR THIS
  EVENT. A ZOOM LINK HAS BEEN ADDED TO ACCOMMODATE THOSE THAT ARE UNABLE T
 O JOIN IN-PERSON.\n\nAdmission:\nFree\n\nDetails URL:\nhttps://medicine.y
 ale.edu/event/paps-james-comer-and-curtis-patton/\n
DTEND;TZID=America/New_York:20251211T180000
DTSTAMP:20260411T131624Z
DTSTART;TZID=America/New_York:20251211T160000
LOCATION:Zoom Details:\nhttps://yale.zoom.us/j/98570984892\nWebinar ID 985
  7098 4892\n\, URL: https://yale.zoom.us/j/98570984892
SEQUENCE:0
STATUS:Confirmed
SUMMARY:Program for Art in Public Spaces
UID:6084a4b4-dae8-4b00-b988-9977cd8632e6
END:VEVENT
END:VCALENDAR
