BEGIN:VCALENDAR
PRODID:-//github.com/ical-org/ical.net//NONSGML ical.net 4.0//EN
VERSION:2.0
BEGIN:VTIMEZONE
TZID:America/New_York
X-LIC-LOCATION:America/New_York
BEGIN:STANDARD
DTSTART:20241103T020000
RRULE:FREQ=YEARLY;BYDAY=1SU;BYMONTH=11
TZNAME:EST
TZOFFSETFROM:-0400
TZOFFSETTO:-0500
END:STANDARD
BEGIN:DAYLIGHT
DTSTART:20250309T020000
RRULE:FREQ=YEARLY;BYDAY=2SU;BYMONTH=3
TZNAME:EDT
TZOFFSETFROM:-0500
TZOFFSETTO:-0400
END:DAYLIGHT
END:VTIMEZONE
BEGIN:VEVENT
DESCRIPTION:Dr. Heather H. Burris is an attending neonatologist at the Chi
 ldren’s Hospital of Philadelphia and Associate Professor of Pediatrics at
  the University of Pennsylvania Perelman School of Medicine. She studies 
 social and environmental factors that contribute to perinatal health ineq
 uity. She is multiple PI of the NIH-funded Penn-CHOP ECHO site and PI of 
 PeliCaN\, a body of work focused on maternal postpartum care in the NICU 
 for high-risk patients. In PeliCaN doulas are welcomed into the NICU to p
 rovide maternal support and healthcare navigation for mothers of sick inf
 ants. Dr. Burris also performs analyses of pregnancy cohorts and is PI of
  a large Penn Medicine birth cohort study\, GeoBirth\, in which preterm b
 irths are rigorously phenotyped and linked to area-level exposures. She h
 as an NIH R01 with Dr. Eugenia South\, to study greenspace effects on pre
 gnancy outcomes. Dr. Burris received her BA in in anthropology from the U
 niversity of Pennsylvania and her MD from Temple University. She complete
 d pediatric residency at the Children’s Hospital of Philadelphia and neon
 atology fellowship at Harvard. She obtained her MPH at the Harvard TH Cha
 n School of Public Health through the Harvard Pediatric Health Services R
 esearch Fellowship. She mentors students and trainees across the Penn-CHO
 P community and beyond. She’s an avid soccer and water polo mom to three 
 girls.\n\nSpeaker:\nHeather H. Burris\, MD\, MPH\n\nAdmission:\nFree\n\nF
 ood:\nLunch\n\nDetails URL:\nhttps://medicine.yale.edu/event/cch-seminar-
 heather-burris/\n
DTEND;TZID=America/New_York:20260209T125000
DTSTAMP:20260418T152247Z
DTSTART;TZID=America/New_York:20260209T120000
LOCATION:URL: https://bit.ly/2026BurrisSeminar
SEQUENCE:0
STATUS:Confirmed
SUMMARY:[CANCELLED]: YSPH Climate Change and Health Seminar\, "Environment
 al Perinatal Epidemiology and its Role in Shaping Interventions\," with D
 r. Heather Burris
UID:a71095e1-2d15-4097-953c-b66d3dd5a51b
END:VEVENT
END:VCALENDAR
