BEGIN:VCALENDAR
PRODID:-//github.com/ical-org/ical.net//NONSGML ical.net 4.0//EN
VERSION:2.0
BEGIN:VTIMEZONE
TZID:America/New_York
X-LIC-LOCATION:America/New_York
BEGIN:STANDARD
DTSTART:20241103T020000
RRULE:FREQ=YEARLY;BYDAY=1SU;BYMONTH=11
TZNAME:EST
TZOFFSETFROM:-0400
TZOFFSETTO:-0500
END:STANDARD
BEGIN:DAYLIGHT
DTSTART:20250309T020000
RRULE:FREQ=YEARLY;BYDAY=2SU;BYMONTH=3
TZNAME:EDT
TZOFFSETFROM:-0500
TZOFFSETTO:-0400
END:DAYLIGHT
END:VTIMEZONE
BEGIN:VEVENT
DESCRIPTION:Join us for an afternoon of exploration and connection! Small 
 groups of students will visit four community agencies within walking dist
 ance of campus\, spending approximately 30 minutes at each stop to learn 
 from staff about their work\, how public health connects to their mission
 s\, and ways to get involved. We’ll wrap up back on campus with a hands-o
 n service activity. When : Friday September 26 from 12:15PM to 3:30PM Whe
 re : We will meet on campus at 12:00PM\n\nAdmission:\nFree\n\nDetails URL
 :\nhttps://medicine.yale.edu/event/ysph-community-crawl/\n
DTEND;TZID=America/New_York:20250926T153000
DTSTAMP:20260419T225115Z
DTSTART;TZID=America/New_York:20250926T121500
GEO:41.302961;-72.931638
LOCATION:47 College Street\, New Haven\, CT\, United States
SEQUENCE:0
STATUS:Confirmed
SUMMARY: YSPH Community Crawl
UID:2baab12b-883a-4818-bb1a-c800dc723b17
END:VEVENT
END:VCALENDAR
