BEGIN:VCALENDAR
PRODID:-//github.com/ical-org/ical.net//NONSGML ical.net 4.0//EN
VERSION:2.0
BEGIN:VTIMEZONE
TZID:America/New_York
X-LIC-LOCATION:America/New_York
BEGIN:STANDARD
DTSTART:20241103T020000
RRULE:FREQ=YEARLY;BYDAY=1SU;BYMONTH=11
TZNAME:EST
TZOFFSETFROM:-0400
TZOFFSETTO:-0500
END:STANDARD
BEGIN:DAYLIGHT
DTSTART:20250309T020000
RRULE:FREQ=YEARLY;BYDAY=2SU;BYMONTH=3
TZNAME:EDT
TZOFFSETFROM:-0500
TZOFFSETTO:-0400
END:DAYLIGHT
END:VTIMEZONE
BEGIN:VEVENT
DESCRIPTION:YSPH/EHS Seminar: Air Pollution Research to Inform Public Heal
 th Policy and Action. Speaker : Sara Dubowsky Adar\, ScD\, MHS\, Professo
 r of Communication & Journalism at the University of Michigan School of P
 ublic Health. NOTE: EHS 525 students are required to attend in person. Ot
 hers are invited to attend in person or via Zoom: (Join URL: https://yale
 .zoom.us/j/92794219807 )\n\nSpeaker:\nSara Dubowsky Adar\, ScD\, MHS\n\nA
 dmission:\nFree\n\nFood:\n"Pizza will be provided." \n\nDetails URL:\nhtt
 ps://medicine.yale.edu/event/ysphehs-seminar-air-pollution-research-to-in
 form-public-health-policy-and-action/\n
DTEND;TZID=America/New_York:20260225T125000
DTSTAMP:20260420T033203Z
DTSTART;TZID=America/New_York:20260225T120000
LOCATION:This seminar has been moved to a remote format.\, URL: https://ya
 le.zoom.us/j/92794219807
SEQUENCE:0
STATUS:Confirmed
SUMMARY:YSPH/EHS Seminar: Air Pollution Research to Inform Public Health P
 olicy and Action
UID:2415f1a7-583d-4ee1-9eb9-9240baaad3d8
END:VEVENT
END:VCALENDAR
