BEGIN:VCALENDAR
PRODID:-//github.com/ical-org/ical.net//NONSGML ical.net 4.0//EN
VERSION:2.0
BEGIN:VTIMEZONE
TZID:America/New_York
X-LIC-LOCATION:America/New_York
BEGIN:STANDARD
DTSTART:20241103T020000
RRULE:FREQ=YEARLY;BYDAY=1SU;BYMONTH=11
TZNAME:EST
TZOFFSETFROM:-0400
TZOFFSETTO:-0500
END:STANDARD
BEGIN:DAYLIGHT
DTSTART:20250309T020000
RRULE:FREQ=YEARLY;BYDAY=2SU;BYMONTH=3
TZNAME:EDT
TZOFFSETFROM:-0500
TZOFFSETTO:-0400
END:DAYLIGHT
END:VTIMEZONE
BEGIN:VEVENT
DESCRIPTION:\nAdmission:\nFree\n\nDetails URL:\nhttps://medicine.yale.edu/
 event/data-visualization-with-ggplot2/\n
DTEND;TZID=America/New_York:20251124T160000
DTSTAMP:20260420T010528Z
DTSTART;TZID=America/New_York:20251124T150000
LOCATION:URL: https://yale.zoom.us/meeting/register/EJT2KcX4Qgyf5R2kYzCBLg
SEQUENCE:0
STATUS:Confirmed
SUMMARY:Data Visualization with ggplot2
UID:e789c28b-6a03-4d51-a3a9-e0f0f356d7c6
END:VEVENT
END:VCALENDAR
