BEGIN:VCALENDAR
PRODID:-//github.com/ical-org/ical.net//NONSGML ical.net 4.0//EN
VERSION:2.0
BEGIN:VTIMEZONE
TZID:America/New_York
X-LIC-LOCATION:America/New_York
BEGIN:STANDARD
DTSTART:20241103T020000
RRULE:FREQ=YEARLY;BYDAY=1SU;BYMONTH=11
TZNAME:EST
TZOFFSETFROM:-0400
TZOFFSETTO:-0500
END:STANDARD
BEGIN:DAYLIGHT
DTSTART:20250309T020000
RRULE:FREQ=YEARLY;BYDAY=2SU;BYMONTH=3
TZNAME:EDT
TZOFFSETFROM:-0500
TZOFFSETTO:-0400
END:DAYLIGHT
END:VTIMEZONE
BEGIN:VEVENT
DESCRIPTION:“Pandemic Prevention in the Age of AI” Epidemics are emergent 
 phenomena. They result from the multilevel interaction of hosts\, pathoge
 ns\, and environments. Said differently\, infectious diseases are complex
  systems. Despite world-changing advances\, current artificial intelligen
 ce systems exhibit limited performance in modeling such complex systems. 
 In this talk\, I will discuss opportunities to leverage AI to advance pub
 lic health and why the fundamental nature of socio-biological systems wil
 l always require us to tightly integrate AI with experimental and observa
 tional systems. YSPH values inclusion and access for all participants If 
 you have questions about accessibility or would like to request an accomm
 odation\, please contact Christina Ciarleglio at christina.ciarleglio@yal
 e.edu\n\nSpeaker:\nSamuel Scarpino\, Ph.D.\n\nAdmission:\nFree\n\nDetails
  URL:\nhttps://medicine.yale.edu/event/emd-seminar-series-tba-24/\n
DTEND;TZID=America/New_York:20260204T130000
DTSTAMP:20260408T150142Z
DTSTART;TZID=America/New_York:20260204T120000
GEO:41.303666;-72.932218
LOCATION:Yale School of Public Health (LEPH)\, Winslow\, 60 College Street
 \, New Haven\, CT\, United States
SEQUENCE:0
STATUS:Confirmed
SUMMARY:EMD Seminar Series: Samuel Scarpino\, Ph.D. - "Pandemic Prevention
  in the Age of AI"
UID:026223d6-4d5d-464d-9e4e-b8d24a06a933
END:VEVENT
END:VCALENDAR
