BEGIN:VCALENDAR
PRODID:-//github.com/ical-org/ical.net//NONSGML ical.net 4.0//EN
VERSION:2.0
BEGIN:VTIMEZONE
TZID:America/New_York
X-LIC-LOCATION:America/New_York
BEGIN:STANDARD
DTSTART:20241103T020000
RRULE:FREQ=YEARLY;BYDAY=1SU;BYMONTH=11
TZNAME:EST
TZOFFSETFROM:-0400
TZOFFSETTO:-0500
END:STANDARD
BEGIN:DAYLIGHT
DTSTART:20250309T020000
RRULE:FREQ=YEARLY;BYDAY=2SU;BYMONTH=3
TZNAME:EDT
TZOFFSETFROM:-0500
TZOFFSETTO:-0400
END:DAYLIGHT
END:VTIMEZONE
BEGIN:VEVENT
DESCRIPTION:“The unexpected resurgence of vaccine-targeted serotypes of pn
 eumococcus” Pneumococcal conjugate vaccines have been used for more than 
 25 years. After suppressing disease rates of targeted serotypes for many 
 years\, several serotype have recently re-emerged. The cause of this resu
 rgence is not clear\, but understanding this issue is critical to ensure 
 the continued success of future pneumococcal vaccine programs. In this ta
 lk\, I will discuss some hypotheses for the rebound in vaccine-targeted s
 erotypes and the evidence for and against these hypotheses based on recen
 t data. YSPH values inclusion and access for all participants If you have
  questions about accessibility or would like to request an accommodation\
 , please contact Christina Ciarleglio at christina.ciarleglio@yale.edu\n\
 nSpeaker:\nDaniel Weinberger\n\nAdmission:\nFree\n\nDetails URL:\nhttps:/
 /medicine.yale.edu/event/emd-seminar-series-tba-22/\n
DTEND;TZID=America/New_York:20260121T130000
DTSTAMP:20260417T072931Z
DTSTART;TZID=America/New_York:20260121T120000
GEO:41.303666;-72.932218
LOCATION:Yale School of Public Health (LEPH)\, Winslow\, 60 College Street
 \, New Haven\, CT\, United States
SEQUENCE:0
STATUS:Confirmed
SUMMARY:EMD Seminar Series: Dan Weinberger\, PhD - “The unexpected resurge
 nce of vaccine-targeted serotypes of pneumococcus”
UID:4c41291c-c522-46ee-9469-44be89ebdbaf
END:VEVENT
END:VCALENDAR
