BEGIN:VCALENDAR
PRODID:-//github.com/ical-org/ical.net//NONSGML ical.net 4.0//EN
VERSION:2.0
BEGIN:VTIMEZONE
TZID:America/New_York
X-LIC-LOCATION:America/New_York
BEGIN:STANDARD
DTSTART:20241103T020000
RRULE:FREQ=YEARLY;BYDAY=1SU;BYMONTH=11
TZNAME:EST
TZOFFSETFROM:-0400
TZOFFSETTO:-0500
END:STANDARD
BEGIN:DAYLIGHT
DTSTART:20250309T020000
RRULE:FREQ=YEARLY;BYDAY=2SU;BYMONTH=3
TZNAME:EDT
TZOFFSETFROM:-0500
TZOFFSETTO:-0400
END:DAYLIGHT
END:VTIMEZONE
BEGIN:VEVENT
DESCRIPTION:Yale Workshop and Journal of Aging & Social Policy (JASP) Spec
 ial Issue on Aging and End of Life Care: Global Perspectives on Care Prov
 ision\, Quality\, Costs\, and Technology To participate\, please email ja
 speol863@gmail.com no later than Thursday (November 6) to help workshop p
 reparation. Workshop Agenda: Day 1 – Monday\, 10 November 2025 09:00 – 09
 :15 Welcome and introduction: Xi Chen (Yale University) Opening Remarks: 
 Terri Fried (Yale University) Bei Wu (New York University) Session 1: Adv
 ance Directives and End-of-Life Planning Chair: Wei Yang (King’s College 
 London) 09:15 – 09:45 Yifan Lou (Virginia Commonwealth University) \, Zhu
 oer Lin\, Bei Wu\, Zoljargalan Gantumur\, Xi Chen – Does Cognitive Misper
 ception Impact the Timing of Advance Directive Completion? 09:45 – 10:15 
 Kaipeng Wang (University of Denver) \, Anao Zhang\, and Bei Wu – Advance 
 Directive Completion among Older Southeast Asian Americans: The Case of V
 ietnamese and Filipino Populations 10:15 – 10:45 Yuting Qian (Yale Univer
 sity) \, Jonathan Skinner\, Jason Hockenberry\, and Xi Chen – The Impact 
 of Timely Dementia Diagnosis on End-of- Life Planning: Evidence from HRS–
 Medicare Linked Data 10:45 – 11:00 Coffee Break Session 2: Cognition\, Fr
 ailty\, and End-of-Life Care Utilization Chair: Huiwen Xu (Emory Universi
 ty) 11:00 – 11:30 Mengyao Wang (Yale University) and Chenkai Wu – Frailty
  and End-of-Life Care Utilization and Costs: Comparative Evidence from Ch
 ina and Mexico 11:30 – 12:00 Xin Feng\, Chengxu Long\, and Wei Yang (King
 ’s College London) – Place of Death and End-of-Life Expenditures Among Ol
 der Adults in China 12:00 – 12:30 Ming Gu (Kunshan Duke University) \, Xi
 an Zhang\, Jiayin Bian\, Kate Bundorf\, and Lijing Yan – Beyond Autonomy:
  The Role of Cognitive Impairment in Shaping End-of-Life Care Intensity 1
 2:30 – 13:30 Lunch Break Session 3: Dementia\, Family Decision-Making\, a
 nd Cultural Contexts Chair: Xi Chen (Yale University) 13:30 – 14:00 Jing 
 Wang (University of New Hampshire) \, Jiang Huang\, Bei Wu\, Laura Hanson
 \, Dena Schulman-Green\, Yaolin Pei – Family Communication and Decision-M
 aking in Feeding Options for Chinese American Persons with Advanced Demen
 tia 14:00 – 14:30 Annabel Farnood (King’s College London) \, Ankita Bhojw
 ani\, Bridget Johnston\, Nathan Davies\, Charles Reilly\, Catherine Evans
 – Co-Designing a Virtual Platform to Support Family Carers for People wit
 h Dementia 14:30 – 15:00 Yixuan Wang (Colorado State University) \, Xiaoy
 i Zeng\, and Jennifer Currin-McCulloch – The Prospect of Assisted Dying P
 olicy in Mainland China: Implications for Culturally Responsive End-of-Li
 fe Care 15:00 – 15:20 Coffee Break\, Group Photo Session 4: Early Career 
 “Egg Timer” Presentations (10 minutes each) Chair: Hanzhang Xu (Duke Univ
 ersity) 15:20 – 15:30 Xian Zhang (University of Rochester) – Cognitive Fr
 ailty and Socioeconomic Disparities in End-of-Life Care: Evidence from Th
 ree Countries 15:30 – 15:40 Xiaoyi Zeng\, Peiyuan Zhang\, Jing Wang\, Den
 a Schulman-Green\, Bei Wu\, Laura Hanson\, Yaolin Pei (The University of 
 Texas at Austin) – Culturally Responsive Practices Supporting Chinese Ame
 rican Family Caregivers’ Feeding Decisions in Advanced Dementia: A Qualit
 ative Study 15:40 – 15:50 Peiyuan Zhang (University of Alabama) \, Xiaoyi
  Zeng\, Jing Wang\, Bei Wu\, Dena Schulman-Green\, Laura Hanson\, Yaolin 
 Pei – Sociocultural Considerations in Decision-Making on Feeding Options 
 among Chinese Americans with Advanced Dementia 15:50 – 16:00 Discussion\,
  Q&A 16:00 – 18:00 Campus Tour 18:00 Dinner\, by Invitation Day 2 – Tuesd
 ay\, 11 November 2025 Session 5: Policy\, Systems\, and Technology in End
 -of-Life Care Chair: Fei Sun (Michigan State University) 9:00 – 9:30 Jiam
 eng Yuan (Duke University) \, Marcus Eng Hock\, and Hanzhang Xu – Early I
 dentification of End-of-Life Patients in Emergency Care: A Retrospective 
 Machine Learning Study from Singapore 9:30 – 10:00 Ellis Dillon (Universi
 ty of Connecticut) \, Doreek Charles\, Germine Soliman\, Julie Robison– N
 ursing Home\, Hospice Agency\, and Healthcare Policy Influences on Hospic
 e Care for Individuals with Nursing Home Stays Near the End of Life 10:00
  – 10:30 Fei Sun\, Jin Ke\, and Jun Chu (University of Maryland) – Prelim
 inary Effects of China’s 2017 Hospice Care Policy on End-of-Life Patient 
 Outcomes\, Caregiver Burden\, and Healthcare Expenditures 10:30 – 11:00 A
 nna Bone (King’s College London)\, P May\, M Dabbous\, T Khatun\, D Yi\, 
 CJ Evans\, J Bayly\, N Gough\, M Ogden\, C Ewart\, C Ellis-Smith\, IJ Hig
 ginson– Integrated Palliative Care for Older Adults with Advanced Disease
  in Care Homes: A Multi-Method Study with Early Economic Analysis Session
  6: Reflections and Next Steps for the JASP Special Issue 11:00 – 11:30 D
 iscussions: Guest Editors\, Authors\, Reviewers 11:30 – 11:40 Closing Rem
 arks: Wei Yang (King’s College London) 11:40 – Boxed Lunch\, Departure Do
 wnload the Workshop Agenda\n\nSpeakers:\nBei Wu \; Wei Yang \; Yifan Lou 
 \; Kaipeng Wang \; Yuting Qian\; Mengyao Wang \; Ming Gu \; Jing Wang\; A
 nnabel Farnood \; Yixuan Wang \; Xian Zhang \; Yaolin Pei \; Peiyuan Zhan
 g \; Jiameng Yuan \; Ellis Dillon \; Jun Chu \; Anna Bone \n\nAdmission:\
 nFree\n\nFood:\nCoffee\, Lunch\n\nDetails URL:\nhttps://medicine.yale.edu
 /event/global-perspectives-care-provision/\n
DTEND;TZID=America/New_York:20251111T114500
DTSTAMP:20260417T044041Z
DTSTART;TZID=America/New_York:20251110T090000
GEO:41.314082;-72.924548
LOCATION:77 Prospect Street\, New Haven\, CT\, United States
SEQUENCE:0
STATUS:Confirmed
SUMMARY:Workshop and Journal of Aging & Social Policy Special Issue on Agi
 ng and End of Life Care: Global Perspectives on Care Provision\, Quality\
 , Costs\, and Technology
UID:e7063935-9de9-4d40-81c5-b2044de61598
END:VEVENT
END:VCALENDAR
