BEGIN:VCALENDAR
PRODID:-//github.com/ical-org/ical.net//NONSGML ical.net 4.0//EN
VERSION:2.0
BEGIN:VTIMEZONE
TZID:America/New_York
X-LIC-LOCATION:America/New_York
BEGIN:STANDARD
DTSTART:20241103T020000
RRULE:FREQ=YEARLY;BYDAY=1SU;BYMONTH=11
TZNAME:EST
TZOFFSETFROM:-0400
TZOFFSETTO:-0500
END:STANDARD
BEGIN:DAYLIGHT
DTSTART:20250309T020000
RRULE:FREQ=YEARLY;BYDAY=2SU;BYMONTH=3
TZNAME:EDT
TZOFFSETFROM:-0500
TZOFFSETTO:-0400
END:DAYLIGHT
END:VTIMEZONE
BEGIN:VEVENT
DESCRIPTION:Registration is required. Click here to register. At the end o
 f June and the beginning of July\, some library services were paused whil
 e we upgraded our technology platform. One of these services: requesting 
 library materials (for example printed books) from any Yale library\, or 
 the offsite Library Storage Facility\, or other universities’ libraries\,
  and having them delivered to the circulation desk or mailed to your addr
 ess. You can request books again now. It’s super convenient! In this sess
 ion\, we’ll go over the request process\, and you can request whatever pr
 int books you want to read. Learning objectives Request delivery or mail 
 to address of library materials via Books+\, BorrowDirect\, or Interlibra
 ry Loan For more details about the platform upgrade and service pause: Me
 dical Library information and Yale Library information 🏆 This class is e
 ligible for .5 CME credits\n\nSpeaker:\nKate Nyhan\n\nAdmission:\nFree: O
 pen\; Registration is required.\n\nDetails URL:\nhttps://medicine.yale.ed
 u/event/request-print-books-online-copy-copy-1/\n
DTEND;TZID=America/New_York:20250722T113000
DTSTAMP:20260423T132137Z
DTSTART;TZID=America/New_York:20250722T110000
LOCATION:URL: https://yale.zoom.us/j/91470275873?from=addon
SEQUENCE:0
STATUS:Confirmed
SUMMARY:Request Print Books (Online)
UID:582c2854-96b1-49a0-9bc0-852735b98cb9
END:VEVENT
END:VCALENDAR
