BEGIN:VCALENDAR
PRODID:-//github.com/ical-org/ical.net//NONSGML ical.net 4.0//EN
VERSION:2.0
BEGIN:VTIMEZONE
TZID:America/New_York
X-LIC-LOCATION:America/New_York
BEGIN:STANDARD
DTSTART:20241103T020000
RRULE:FREQ=YEARLY;BYDAY=1SU;BYMONTH=11
TZNAME:EST
TZOFFSETFROM:-0400
TZOFFSETTO:-0500
END:STANDARD
BEGIN:DAYLIGHT
DTSTART:20250309T020000
RRULE:FREQ=YEARLY;BYDAY=2SU;BYMONTH=3
TZNAME:EDT
TZOFFSETFROM:-0500
TZOFFSETTO:-0400
END:DAYLIGHT
END:VTIMEZONE
BEGIN:VEVENT
DESCRIPTION:\nSpeaker:\nJesse Cedarbaum\n\nAdmission:\nFree\n\nDetails URL
 :\nhttps://medicine.yale.edu/event/neuroscience-grand-rounds-jesse-m-ceda
 rbaum-md-looking-at-the-evolution-of-synucleinopathies/\n
DTEND;TZID=America/New_York:20250502T140000
DTSTAMP:20260411T131115Z
DTSTART;TZID=America/New_York:20250502T130000
LOCATION:Join virtually on Zoom\, URL: https://yale.zoom.us/j/97529541019?
 pwd=EKFjTiawm37d2sb3ka2xWewn1XCXT4.1
SEQUENCE:0
STATUS:Confirmed
SUMMARY:Neuroscience Grand Rounds
UID:9c21fa45-941b-432e-90e7-a39394876651
END:VEVENT
END:VCALENDAR
