BEGIN:VCALENDAR
PRODID:-//github.com/ical-org/ical.net//NONSGML ical.net 4.0//EN
VERSION:2.0
BEGIN:VTIMEZONE
TZID:America/New_York
X-LIC-LOCATION:America/New_York
BEGIN:STANDARD
DTSTART:20241103T020000
RRULE:FREQ=YEARLY;BYDAY=1SU;BYMONTH=11
TZNAME:EST
TZOFFSETFROM:-0400
TZOFFSETTO:-0500
END:STANDARD
BEGIN:DAYLIGHT
DTSTART:20250309T020000
RRULE:FREQ=YEARLY;BYDAY=2SU;BYMONTH=3
TZNAME:EDT
TZOFFSETFROM:-0500
TZOFFSETTO:-0400
END:DAYLIGHT
END:VTIMEZONE
BEGIN:VEVENT
DESCRIPTION:Get a free Swedish dishcloth while supplies last!\n\nAdmission
 :\nFree\n\nDetails URL:\nhttps://medicine.yale.edu/event/dishcloth-giveaw
 ay/\n
DTEND;TZID=America/New_York:20250416T150000
DTSTAMP:20260405T230318Z
DTSTART;TZID=America/New_York:20250416T130000
GEO:41.302961;-72.931638
LOCATION:47 College Street\, New Haven\, CT\, United States
SEQUENCE:0
STATUS:Confirmed
SUMMARY:Dishcloth Giveaway
UID:5211ef35-4fc2-4349-90eb-579853590f9f
END:VEVENT
END:VCALENDAR
